BEGIN:VCALENDAR
VERSION:2.0
PRODID:-//wp-events-plugin.com//7.2.3.1//EN
TZID:Europe/Berlin
X-WR-TIMEZONE:Europe/Berlin
BEGIN:VEVENT
UID:160@heinrich-kunst-haus.de
DTSTART;TZID=Europe/Berlin:20221216T170000
DTEND;TZID=Europe/Berlin:20221216T180000
DTSTAMP:20220320T230157Z
URL:https://heinrich-kunst-haus.de/veranstaltungen/wir-warten-aufs-christk
 ind-weihnachtsgeschichten-fuer-kinder/
SUMMARY:„Wir warten aufs Christkind“ - Weihnachtsgeschichten für Kinde
 r
DESCRIPTION:„Wir warten aufs Christkind“\n\nWeihnachtsgeschichten für 
 Kinder \n\nUm den Kindern die Wartezeit auf Heiligabend und Bescherung ein
  wenig zu verkürzen\, bietet der der Verein „Begegnungsstätte Heinrich
  Kunst e.V.“ auch dieses Jahr eine Lesung mit Weihnachtsgeschichten in g
 emütlicher Atmosphäre bei Kerzenschein an. Los geht es am Freitag\, 16. 
 Dezember um 17 Uhr im Heinrich Kunst Haus (Sandweg 22\, Ofenerfeld). Elter
 n können ihre Kinder im Grundschulalter (6 bis 10 Jahre) vorbeibringen un
 d danach wieder abholen – oder aber die Wartezeit bei heißem Glühwein 
 und netten Gesprächen in der Scheune überbrücken\, wozu der Verein herz
 lich einlädt.
CATEGORIES:Lesung
LOCATION:Heinrich-Kunst-Haus\, Sandweg 22\, Wiefelstede\, Niedersachsen\, 2
 6215\, Oldenburg\, Deutschland
GEO:53.1946993;8.1879785
X-APPLE-STRUCTURED-LOCATION;VALUE=URI;X-ADDRESS=Sandweg 22\, Wiefelstede\, 
 Niedersachsen\, 26215\, Oldenburg\, Deutschland;X-APPLE-RADIUS=100;X-TITLE
 =Heinrich-Kunst-Haus:geo:53.1946993,8.1879785
END:VEVENT
BEGIN:VTIMEZONE
TZID:Europe/Berlin
X-LIC-LOCATION:Europe/Berlin
BEGIN:STANDARD
DTSTART:20221030T020000
TZOFFSETFROM:+0200
TZOFFSETTO:+0100
TZNAME:CET
END:STANDARD
END:VTIMEZONE
END:VCALENDAR