BEGIN:VCALENDAR
VERSION:2.0
PRODID:-//wp-events-plugin.com//7.2.3.1//EN
TZID:Europe/Berlin
X-WR-TIMEZONE:Europe/Berlin
BEGIN:VEVENT
UID:116@heinrich-kunst-haus.de
DTSTART;TZID=Europe/Berlin:20211217T170000
DTEND;TZID=Europe/Berlin:20211217T180000
DTSTAMP:20211130T223604Z
URL:https://heinrich-kunst-haus.de/veranstaltungen/weihnachtsgeschichten-f
 uer-kinder/
SUMMARY:„Wir warten aufs Christkind“ - Weihnachtsgeschichten für Kinde
 r- Fällt Pandemie bedingt aus!
DESCRIPTION:„Wir warten aufs Christkind“ - Fällt Pandemie bedingt aus!
 \n\n\nWeihnachtsgeschichten für Kinder \n\nUm den Kindern die Wartezeit a
 uf Heiligabend und Bescherung ein wenig zu verkürzen\, bietet der der Ver
 ein „Begegnungsstätte Heinrich Kunst e.V.“ auch dieses Jahr eine Lesu
 ng mit Weihnachtsgeschichten in gemütlicher Atmosphäre bei Kerzenschein 
 an.\nLos geht es am Freitag\, 17. Dezember um 17 Uhr im Heinrich Kunst Hau
 s (Sandweg 22\, Ofenerfeld). Eltern können ihre Kinder im Grundschulalter
  (6 bis 10 Jahre) vorbeibringen und danach wieder abholen. Anmeldungen daf
 ür werden erbeten bei Richard Eckhoff unter 0441-60735 oder 0171-4957241 
 bzw. unter E-Mail kontakt@heinrich-kunst-haus.de.\nWenn die Corona-Pandemi
 e es zulässt\, können sie die Wartezeit auch bei heißem Punsch und nett
 en Gesprächen in der Scheune überbrücken – dazu lädt der Verein dann
  herzlich ein. Dafür gilt allerdings die 2-G-Regel. Der Verein bittet\, e
 ntsprechende Nachweise am Einlass bereit zu halten.\n\n
CATEGORIES:Kinder,Lesung
LOCATION:Heinrich-Kunst-Haus\, Sandweg 22\, Wiefelstede\, Niedersachsen\, 2
 6215\, Oldenburg\, Deutschland
GEO:53.1946993;8.1879785
X-APPLE-STRUCTURED-LOCATION;VALUE=URI;X-ADDRESS=Sandweg 22\, Wiefelstede\, 
 Niedersachsen\, 26215\, Oldenburg\, Deutschland;X-APPLE-RADIUS=100;X-TITLE
 =Heinrich-Kunst-Haus:geo:53.1946993,8.1879785
END:VEVENT
BEGIN:VTIMEZONE
TZID:Europe/Berlin
X-LIC-LOCATION:Europe/Berlin
BEGIN:STANDARD
DTSTART:20211031T020000
TZOFFSETFROM:+0200
TZOFFSETTO:+0100
TZNAME:CET
END:STANDARD
END:VTIMEZONE
END:VCALENDAR