BEGIN:VCALENDAR
VERSION:2.0
PRODID:-//wp-events-plugin.com//7.2.3.1//EN
TZID:Europe/Berlin
X-WR-TIMEZONE:Europe/Berlin
BEGIN:VEVENT
UID:159@heinrich-kunst-haus.de
DTSTART;TZID=Europe/Berlin:20221208T193000
DTEND;TZID=Europe/Berlin:20221208T213000
DTSTAMP:20220320T230007Z
URL:https://heinrich-kunst-haus.de/veranstaltungen/weihnachtsfeier-im-hein
 rich-kunst-haus/
SUMMARY:Weihnachtsfeier im Heinrich Kunst Haus
DESCRIPTION:Weihnachtsfeier im Heinrich Kunst Haus\n\nVerein bittet um rech
 tzeitige Anmeldung\n\nDer Verein „Begegnungsstätte Heinrich Kunst e.V.
 “ &nbsp\;lädt für Donnerstag\, 8. Dezember wieder alle Mitglieder und 
 Freunde zu seiner traditionellen Weihnachtsfeier ins Heinrich Kunst Haus e
 in. Beginn ist 19:30 Uhr\, Einlass ist ab 19 Uhr. Wegen des begrenzten Pla
 tzangebotes bittet der Verein um rechtzeitige und verbindliche Anmeldung b
 is zum 26. November bei Richard Eckhoff unter Tel. 0441-60735 oder 0171-49
 57241 bzw. per E-Mail unter kontakt@heinrich-kunst-haus.de.\n\n&nbsp\;
CATEGORIES:Tradition
LOCATION:Heinrich-Kunst-Haus\, Sandweg 22\, Wiefelstede\, Niedersachsen\, 2
 6215\, Oldenburg\, Deutschland
GEO:53.1946993;8.1879785
X-APPLE-STRUCTURED-LOCATION;VALUE=URI;X-ADDRESS=Sandweg 22\, Wiefelstede\, 
 Niedersachsen\, 26215\, Oldenburg\, Deutschland;X-APPLE-RADIUS=100;X-TITLE
 =Heinrich-Kunst-Haus:geo:53.1946993,8.1879785
END:VEVENT
BEGIN:VTIMEZONE
TZID:Europe/Berlin
X-LIC-LOCATION:Europe/Berlin
BEGIN:STANDARD
DTSTART:20221030T020000
TZOFFSETFROM:+0200
TZOFFSETTO:+0100
TZNAME:CET
END:STANDARD
END:VTIMEZONE
END:VCALENDAR