BEGIN:VCALENDAR
VERSION:2.0
PRODID:-//wp-events-plugin.com//7.2.3.1//EN
TZID:Europe/Berlin
X-WR-TIMEZONE:Europe/Berlin
BEGIN:VEVENT
UID:366@heinrich-kunst-haus.de
DTSTART;TZID=Europe/Berlin:20251211T193000
DTEND;TZID=Europe/Berlin:20251211T210000
DTSTAMP:20250124T113416Z
URL:https://heinrich-kunst-haus.de/veranstaltungen/weihnachtsfeier-im-hein
 rich-kunst-haus-4/
SUMMARY:Weihnachtsfeier im Heinrich Kunst Haus
DESCRIPTION:Weihnachtsfeier im Heinrich Kunst Haus\n\n&nbsp\;„Begegnungss
 tätte Heinrich Kunst“ lädt Mitglieder und Freunde ein\n\nDer Verein 
 „Begegnungsstätte Heinrich Kunst e.V.“&nbsp\; lädt für Donnerstag\,
  11. Dezember wieder alle Mitglieder und Freunde zu seiner traditionellen 
 Weihnachtsfeier ins Heinrich Kunst Haus ein. In gemütlicher Runde am Kami
 n bei Glühwein\, Punsch\, Stollen und Gebäck haben wir Gelegenheit in di
 eser unruhigen und sorgenvollen Zeit\, miteinander ins Gespräch zu kommen
  und uns auf die Vorweihnachtszeit einzustimmen. Beginn ist 19:30 Uhr\, Ei
 nlass ist ab 19 UhrFür das leibliche Wohl wird wieder reichlich gesorgt s
 ein. Nichtmitglieder sind als Gäste immer gern gesehen\, betont der Vorst
 and\, der sich auf eine rege Beteiligung freut. Wegen des begrenzten Platz
 angebotes bittet der Verein um rechtzeitige und verbindliche Anmeldung bis
  zum 03. Dez. unter E-Mail&nbsp\; kontakt@heinrich-kunst-haus.de\, oder Te
 l. 0441-60735. Einlass ist ab 19 Uhr.\n\n 
CATEGORIES:Tradition
LOCATION:Heinrich-Kunst-Haus\, Sandweg 22\, Wiefelstede\, Niedersachsen\, 2
 6215\, Oldenburg\, Deutschland
GEO:53.1946993;8.1879785
X-APPLE-STRUCTURED-LOCATION;VALUE=URI;X-ADDRESS=Sandweg 22\, Wiefelstede\, 
 Niedersachsen\, 26215\, Oldenburg\, Deutschland;X-APPLE-RADIUS=100;X-TITLE
 =Heinrich-Kunst-Haus:geo:53.1946993,8.1879785
END:VEVENT
BEGIN:VTIMEZONE
TZID:Europe/Berlin
X-LIC-LOCATION:Europe/Berlin
BEGIN:STANDARD
DTSTART:20251026T020000
TZOFFSETFROM:+0200
TZOFFSETTO:+0100
TZNAME:CET
END:STANDARD
END:VTIMEZONE
END:VCALENDAR