BEGIN:VCALENDAR
VERSION:2.0
PRODID:-//wp-events-plugin.com//7.2.3.1//EN
TZID:Europe/Berlin
X-WR-TIMEZONE:Europe/Berlin
BEGIN:VEVENT
UID:72@heinrich-kunst-haus.de
DTSTART;TZID=Europe/Berlin:20201106T193000
DTEND;TZID=Europe/Berlin:20201106T193000
DTSTAMP:20201028T060257Z
URL:https://heinrich-kunst-haus.de/veranstaltungen/veranstaltung-zum-09-no
 vember-2/
SUMMARY:„Ein Abend gegen das Vergessen“ - Fällt dieses Jahr leider aus
 !
DESCRIPTION:Die Veranstaltung „Ein Abend gegen das Vergessen“ am 06. No
 vember 2020 muss aufgrund der Corona-Pandemie und aus persönlichen Gründ
 en leider abgesagt werden.\n\n„Ein Abend gegen das Vergessen“\n\nVortr
 ag und Lesung zum 9. November 1938 - Findet statt!\n\n\nNach dem schreckli
 chen Anschlag 2019 auf die jüdische Synagoge in Halle und weiteren antise
 mitischen Anschlägen in jüngster Vergangenheit ist es um so wichtiger un
 d dringlicher\, sich zu besinnen auf das\, was am 9. November 1938 in Deut
 schland geschah: Nazi-Schergen überfielen jüdische Geschäfte und steckt
 en jüdische Synagogen in Brand. Sie schlugen und töteten Menschen jüdis
 chen Glaubens. Diese Progrome mündeten letztendlich in der erklärten Abs
 icht der Nazis\, das jüdische Volk auszulöschen. Am Freitag\, 6. Novembe
 r 2020 wollen der ehemalige Richter Dr. Walter Müller und der ehemalige L
 ehrer Dr. Dieter Thierfeld an dieses wichtige Ereignis erinnern. In Vortra
 g und Lesung von vielen verschiedenen Texten wollen sie sich dem Thema nä
 hern und ein Zeichen setzen gegen das Vergessen. Musikalisch unterstützt 
 werden die beiden Vortragenden vom Sieglinde-Heilig-Ensemble.\n\nDie Veran
 staltung im Heinrich Kunst Haus (Sandweg 22\, Ofenerfeld) beginnt um 19:30
  Uhr\, der Eintritt ist frei. Wegen der corona-bedingten Abstandsregel von
  1\,5 m kann das Heinrich Kunst Haus zur Zeit nur ca. 30 Sitzplätze anbie
 ten. Deshalb ist eine Anmeldung für diese Veranstaltung unbedingt erforde
 rlich. Anmelden kann man sich telefonisch bei Richard Eckhoff unter 0441-6
 0735 oder 0171-4957241 bzw. unter E-Mail: kontakt@heinrich-kunst-haus.de.&
 nbsp\;\n\n
CATEGORIES:Konzert,Lesung
LOCATION:Heinrich-Kunst-Haus\, Sandweg 22\, Wiefelstede\, Niedersachsen\, 2
 6215\, Oldenburg\, Deutschland
GEO:53.1946993;8.1879785
X-APPLE-STRUCTURED-LOCATION;VALUE=URI;X-ADDRESS=Sandweg 22\, Wiefelstede\, 
 Niedersachsen\, 26215\, Oldenburg\, Deutschland;X-APPLE-RADIUS=100;X-TITLE
 =Heinrich-Kunst-Haus:geo:53.1946993,8.1879785
END:VEVENT
BEGIN:VTIMEZONE
TZID:Europe/Berlin
X-LIC-LOCATION:Europe/Berlin
BEGIN:STANDARD
DTSTART:20201025T020000
TZOFFSETFROM:+0200
TZOFFSETTO:+0100
TZNAME:CET
END:STANDARD
END:VTIMEZONE
END:VCALENDAR