BEGIN:VCALENDAR
VERSION:2.0
PRODID:-//wp-events-plugin.com//7.2.3.1//EN
TZID:Europe/Berlin
X-WR-TIMEZONE:Europe/Berlin
BEGIN:VEVENT
UID:58@heinrich-kunst-haus.de
DTSTART;TZID=Europe/Berlin:20200829T170000
DTEND;TZID=Europe/Berlin:20200829T170000
DTSTAMP:20200726T085702Z
URL:https://heinrich-kunst-haus.de/veranstaltungen/sommerfest-beim-heinric
 h-kunst-haus/
SUMMARY:Sommerfest beim Heinrich-Kunst-Haus\, Fällt dieses Jahr leider aus
 !
DESCRIPTION:Sommerfest beim Heinrich Kunst Haus- Fällt dieses Jahr leider 
 aus!\n\n\nAufgrund der weiterhin bestehenden Beschränkungen im Zusammenha
 ng mit der Corona-Pandemie\, muss der Verein das Sommersfest 2020 leider a
 bsagen!\n\nAuch in diesem&nbsp\; Jahr lädt der Verein „Begegnungsstätt
 e Heinrich Kunst e.V.“ wieder alle Mitglieder und Freunde und deren Ange
 hörige zu seinem traditionellen Sommerfest ein\, das am Samstag\, 29. Aug
 ust 2020 ab 17 Uhr beim Heinrich Kunst Haus (Sandweg 22\, Ofenerfeld) stat
 tfindet. Für das leibliche Wohl ist wieder reichlich gesorgt\, so der Vor
 stand. Auch für Kinder gibt es Spiel- und Spaß-Angebote auf dem Hof. Auc
 h Nichtmitglieder sind als Gäste immer willkommen\, betont der Vorstand\,
  der sich auf eine rege Beteiligung freut.
CATEGORIES:Feste
LOCATION:Heinrich-Kunst-Haus\, Sandweg 22\, Wiefelstede\, Niedersachsen\, 2
 6215\, Oldenburg\, Deutschland
GEO:53.1946993;8.1879785
X-APPLE-STRUCTURED-LOCATION;VALUE=URI;X-ADDRESS=Sandweg 22\, Wiefelstede\, 
 Niedersachsen\, 26215\, Oldenburg\, Deutschland;X-APPLE-RADIUS=100;X-TITLE
 =Heinrich-Kunst-Haus:geo:53.1946993,8.1879785
END:VEVENT
BEGIN:VTIMEZONE
TZID:Europe/Berlin
X-LIC-LOCATION:Europe/Berlin
BEGIN:DAYLIGHT
DTSTART:20200329T030000
TZOFFSETFROM:+0100
TZOFFSETTO:+0200
TZNAME:CEST
END:DAYLIGHT
END:VTIMEZONE
END:VCALENDAR