BEGIN:VCALENDAR
VERSION:2.0
PRODID:-//wp-events-plugin.com//7.2.3.1//EN
TZID:Europe/Berlin
X-WR-TIMEZONE:Europe/Berlin
BEGIN:VEVENT
UID:391@heinrich-kunst-haus.de
DTSTART;TZID=Europe/Berlin:20260507T193000
DTEND;TZID=Europe/Berlin:20260507T213000
DTSTAMP:20260112T093635Z
URL:https://heinrich-kunst-haus.de/veranstaltungen/riet-dien-muul-up-stiek
 elstrueuek-programm-anl-100-geb-von-oswald-andrae/
SUMMARY:"Riet dien Muul up!"\, Stiekelstrüük-Programm anl. 100. Geb. von 
 Oswald Andrae
DESCRIPTION:„Riet dien Muul up!“\n\nZum 100. Geburtstag von Oswald Andr
 ae\n\nDer bekannte niederdeutsche Schriftsteller Oswald Andrae wurde vor 1
 00 Jahren in Jever geboren. Nach Schule und Ausbildung zum Optikermeister 
 begann er ab Mitte der 50er-Jahren zu schreiben\, vornehmlich in plattdeut
 scher Sprache. Er war einer der ersten niederdeutschen Schriftsteller\, di
 e zunehmend kritisch politische und gesellschaftliche Entwicklungen hinter
 fragten. Mit seinen antimilitaristischen und antinationalistischen Texten 
 erregte er auch bundesweit Aufsehen. Die auch in der plattdeutschen Folk- 
 und Liedermacherszene bekannten Sänger Knut Kiesewetter\, Hannes Wader un
 d Helmut Debus haben Texte von Oswald Andrae vertont und damit noch weiter
  verbreitet. Am Donnerstag\, 7. Mai ist sein Sohn Iko Andrae\, selber beka
 nnter Liedermacher\, zu Gast im Heinrich Kunst Haus (Sandweg 22\, Ofenerfe
 ld). „Irgendwann machte ich mich ans Werk und tauchte tief ein in die Ly
 rik von Oswald Andrae“\, sagt Iko Andrae über seine Beschäftigung mit 
 dem Werk seines Vaters\, den er über die Vertonung vieler Texte neu kenne
 n lernte. „Dafür bin ich sehr dankbar“\, sagt Iko Andrae.\nDas Konzer
 t beginnt um 19:30 Uhr\, Einlass ist ab 19 Uhr. Karten gibt es für 10 Eur
 o über das vereinsinterne Online-Ticket-Verfahren (www.heinrich-kunst-hau
 s.de/veranstaltungen\; dann den entsprechenden Veranstaltungstermin anklic
 ken). Nur in Ausnahmefällen ist eine Reservierung per E-Mail unter kontak
 t@heinrich-kunst-haus.de möglich. Eventuelle Restkarten gibt es an der Ab
 endkasse\, die ab 19 Uhr geöffnet hat.\n\n\nFoto: privat
CATEGORIES:Konzert
LOCATION:Heinrich Kunst Haus\, Sandweg 22\, Wiefelstede\, Niedersachsen/Amm
 erland\, 26215\, Deutschland
GEO:53.194724;8.187981
X-APPLE-STRUCTURED-LOCATION;VALUE=URI;X-ADDRESS=Sandweg 22\, Wiefelstede\, 
 Niedersachsen/Ammerland\, 26215\, Deutschland;X-APPLE-RADIUS=100;X-TITLE=H
 einrich Kunst Haus:geo:53.194724,8.187981
END:VEVENT
BEGIN:VTIMEZONE
TZID:Europe/Berlin
X-LIC-LOCATION:Europe/Berlin
BEGIN:DAYLIGHT
DTSTART:20260329T030000
TZOFFSETFROM:+0100
TZOFFSETTO:+0200
TZNAME:CEST
END:DAYLIGHT
END:VTIMEZONE
END:VCALENDAR