BEGIN:VCALENDAR
VERSION:2.0
PRODID:-//wp-events-plugin.com//7.2.3.1//EN
TZID:Europe/Berlin
X-WR-TIMEZONE:Europe/Berlin
BEGIN:VEVENT
UID:357@heinrich-kunst-haus.de
DTSTART;TZID=Europe/Berlin:20250925T193000
DTEND;TZID=Europe/Berlin:20250925T210000
DTSTAMP:20250921T100226Z
URL:https://heinrich-kunst-haus.de/veranstaltungen/regionale-koestlichkeit
 en-4/
SUMMARY:„Regionale Köstlichkeiten“ - Ausverkauft!
DESCRIPTION:„Regionale Köstlichkeiten“\n\nHeinrich Kunst Haus bittet z
 u Tisch\n\nVerein bittet um rechtzeitige Anmeldung\n\nDer Verein Begegnung
 sstätte Heinrich Kunst e.V.&nbsp\; lädt für Donnerstag\, 25. September 
 wieder alle Mitglieder und Freunde ein\, um sich „in die Töpfe schauen 
 zu lassen“. Auf dem Programm stehen regionale Köstlichkeiten\, die man 
 dann probieren kann. „Lassen Sie sich überraschen“\, so der Vorstand.
  Dafür wird ein selbstdeckender Unkostenbeitrag erhoben. Wegen des begren
 zten Platzangebotes bittet der Verein um rechtzeitige und verbindliche Anm
 eldung bis zum 18. September bei Richard Eckhoff per E-Mail unter kontakt@
 heinrich-kunst-haus.de. Einlass ist ab 19 Uhr.
CATEGORIES:Tradition
LOCATION:Heinrich-Kunst-Haus\, Sandweg 22\, Wiefelstede\, Niedersachsen\, 2
 6215\, Oldenburg\, Deutschland
GEO:53.1946993;8.1879785
X-APPLE-STRUCTURED-LOCATION;VALUE=URI;X-ADDRESS=Sandweg 22\, Wiefelstede\, 
 Niedersachsen\, 26215\, Oldenburg\, Deutschland;X-APPLE-RADIUS=100;X-TITLE
 =Heinrich-Kunst-Haus:geo:53.1946993,8.1879785
END:VEVENT
BEGIN:VTIMEZONE
TZID:Europe/Berlin
X-LIC-LOCATION:Europe/Berlin
BEGIN:DAYLIGHT
DTSTART:20250330T030000
TZOFFSETFROM:+0100
TZOFFSETTO:+0200
TZNAME:CEST
END:DAYLIGHT
END:VTIMEZONE
END:VCALENDAR