BEGIN:VCALENDAR
VERSION:2.0
PRODID:-//wp-events-plugin.com//7.2.3.1//EN
TZID:Europe/Berlin
X-WR-TIMEZONE:Europe/Berlin
BEGIN:VEVENT
UID:298@heinrich-kunst-haus.de
DTSTART;TZID=Europe/Berlin:20240926T193000
DTEND;TZID=Europe/Berlin:20240926T210000
DTSTAMP:20240830T165923Z
URL:https://heinrich-kunst-haus.de/veranstaltungen/regionale-koestlichkeit
 en-3/
SUMMARY:Regionale Köstlichkeiten
DESCRIPTION:„Regionale Köstlichkeiten“ \n\nHeinrich Kunst Haus bittet 
 zu Tisch\n\nDer Verein Begegnungsstätte Heinrich Kunst e.V.&nbsp\; lädt 
 für Donnerstag\, 26. September wieder alle Mitglieder und Freunde ein\, u
 m sich „in die Töpfe schauen zu lassen“. Auf dem Programm stehen regi
 onale Köstlichkeiten\, die man dann probieren kann. „Lassen Sie sich ü
 berraschen“\, so der Vorstand. Dafür wird ein selbstdeckender Unkostenb
 eitrag erhoben.\nAls besondere Vor- und Nachspeise tragen Hajo Freitag und
  Theo Gerdes „ein kleines Herbstprogramm“ vor.&nbsp\; Wegen des begren
 zten Platzangebotes bittet der Verein um rechtzeitige und verbindliche Anm
 eldung bei Richard Eckhoff unter Tel. 0441-60735 oder 0171-4957241 bzw. pe
 r E-Mail unter kontakt@heinrich-kunst-haus.de. Einlass ist ab 19 Uhr.
CATEGORIES:Tradition
LOCATION:Heinrich-Kunst-Haus\, Sandweg 22\, Wiefelstede\, Niedersachsen\, 2
 6215\, Oldenburg\, Deutschland
GEO:53.1946993;8.1879785
X-APPLE-STRUCTURED-LOCATION;VALUE=URI;X-ADDRESS=Sandweg 22\, Wiefelstede\, 
 Niedersachsen\, 26215\, Oldenburg\, Deutschland;X-APPLE-RADIUS=100;X-TITLE
 =Heinrich-Kunst-Haus:geo:53.1946993,8.1879785
END:VEVENT
BEGIN:VTIMEZONE
TZID:Europe/Berlin
X-LIC-LOCATION:Europe/Berlin
BEGIN:DAYLIGHT
DTSTART:20240331T030000
TZOFFSETFROM:+0100
TZOFFSETTO:+0200
TZNAME:CEST
END:DAYLIGHT
END:VTIMEZONE
END:VCALENDAR