BEGIN:VCALENDAR
VERSION:2.0
PRODID:-//wp-events-plugin.com//7.2.3.1//EN
TZID:Europe/Berlin
X-WR-TIMEZONE:Europe/Berlin
BEGIN:VEVENT
UID:55@heinrich-kunst-haus.de
DTSTART;TZID=Europe/Berlin:20200627T200000
DTEND;TZID=Europe/Berlin:20200627T200000
DTSTAMP:20200506T200551Z
URL:https://heinrich-kunst-haus.de/veranstaltungen/plattdeutsches-theater-
 august-hinrichs-buehne-plattn-art-studio-18-4/
SUMMARY:Plattdeutsches Theater August-Hinrichs-Bühne\, Platt'n Art Studio 
 18+ - Fällt aus!
DESCRIPTION:Das plattdeusche Theater der August-Hinrichs-Bühne fällt in d
 iesem Jahr aufgrund des Corona-Infektionsgeschehens und behördlicher Vorg
 aben leider aus!
CATEGORIES:Theater
LOCATION:Heinrich-Kunst-Haus\, Sandweg 22\, Wiefelstede\, Niedersachsen\, 2
 6215\, Oldenburg\, Deutschland
GEO:53.1946993;8.1879785
X-APPLE-STRUCTURED-LOCATION;VALUE=URI;X-ADDRESS=Sandweg 22\, Wiefelstede\, 
 Niedersachsen\, 26215\, Oldenburg\, Deutschland;X-APPLE-RADIUS=100;X-TITLE
 =Heinrich-Kunst-Haus:geo:53.1946993,8.1879785
END:VEVENT
BEGIN:VTIMEZONE
TZID:Europe/Berlin
X-LIC-LOCATION:Europe/Berlin
BEGIN:DAYLIGHT
DTSTART:20200329T030000
TZOFFSETFROM:+0100
TZOFFSETTO:+0200
TZNAME:CEST
END:DAYLIGHT
END:VTIMEZONE
END:VCALENDAR