BEGIN:VCALENDAR
VERSION:2.0
PRODID:-//wp-events-plugin.com//7.2.3.1//EN
TZID:Europe/Berlin
X-WR-TIMEZONE:Europe/Berlin
BEGIN:VEVENT
UID:268@heinrich-kunst-haus.de
DTSTART;TZID=Europe/Berlin:20230823T193000
DTEND;TZID=Europe/Berlin:20230823T213000
DTSTAMP:20230719T065735Z
URL:https://heinrich-kunst-haus.de/veranstaltungen/neue-veranstaltung-bob-
 ferguson-wieder-im-heinrich-kunst-haus/
SUMMARY:Neue Veranstaltung! Bob Ferguson wieder im Heinrich Kunst Haus
DESCRIPTION:Bob Ferguson wieder im Heinrich Kunst Haus \n\nSchottische und 
 keltische Folk-Musik\n\nNach den letzten erfolgreichen und ausverkauften K
 onzerten besucht der schottische Musiker und Songwriter Bob Ferguson auch 
 dieses Jahr wieder das Heinrich Kunst Haus (Sandweg 22\, Ofenerfeld).&nbsp
 \; Am Mittwoch\, 23. August spielt und singt er ab 19:30 Uhr schottische B
 alladen\, keltische Weisen und Folk-Musik „vom Feinsten“.&nbsp\; Eine 
 Anmeldung mit Vorkasse für dieses Konzert ist erforderlich. Karten gibt e
 s für 10 Euro bei Richard Eckhoff unter 0441-60735 oder 0171-4957241 bzw.
  unter E-Mail: kontakt@heinrich-kunst-haus.de.&nbsp\; Diese können dann a
 m Montag\, 14.08.\, Dienstag\, 15.08. bzw. am Mittwoch\, 16.08. zwischen 1
 9 und 20 Uhr im Heinrich Kunst Haus abgeholt werden. Auch eventuelle Restk
 arten können dann noch erworben werden. Auch beim Sommerfest des Vereins 
 „Begegnungsstätte Heinrich Kunst“ am Samstag\, 12.08. können schon K
 arten erworben werden\, teilt der Vorsitzende Richard Eckhoff mit.\n\n
CATEGORIES:Konzert
LOCATION:Heinrich-Kunst-Haus\, Sandweg 22\, Wiefelstede\, Niedersachsen\, 2
 6215\, Oldenburg\, Deutschland
GEO:53.1946993;8.1879785
X-APPLE-STRUCTURED-LOCATION;VALUE=URI;X-ADDRESS=Sandweg 22\, Wiefelstede\, 
 Niedersachsen\, 26215\, Oldenburg\, Deutschland;X-APPLE-RADIUS=100;X-TITLE
 =Heinrich-Kunst-Haus:geo:53.1946993,8.1879785
END:VEVENT
BEGIN:VTIMEZONE
TZID:Europe/Berlin
X-LIC-LOCATION:Europe/Berlin
BEGIN:DAYLIGHT
DTSTART:20230326T030000
TZOFFSETFROM:+0100
TZOFFSETTO:+0200
TZNAME:CEST
END:DAYLIGHT
END:VTIMEZONE
END:VCALENDAR