BEGIN:VCALENDAR
VERSION:2.0
PRODID:-//wp-events-plugin.com//7.2.3.1//EN
TZID:Europe/Berlin
X-WR-TIMEZONE:Europe/Berlin
BEGIN:VEVENT
UID:356@heinrich-kunst-haus.de
DTSTART;TZID=Europe/Berlin:20250919T193000
DTEND;TZID=Europe/Berlin:20250919T210000
DTSTAMP:20250822T170136Z
URL:https://heinrich-kunst-haus.de/veranstaltungen/musik-von-der-gruenen-i
 nsel-irische-folkmusik-mit-cantemar/
SUMMARY:Musik von der grünen Insel\,  Irische Folkmusik mit „Cantemar“
DESCRIPTION:Musik von der grünen Insel\n\nIrische Folkmusik mit „Cantema
 r“\n\nIhre gemeinsame Liebe zur irischen Folkmusik führte sie 2009 zusa
 mmen: Steffi Hein (Gesang und Bodrahn)\, Constanze Steindamm (Violine)\, H
 eike Roth (Flöte) und Achim Sitz (Gitarre und Gesang). Seitdem spielen si
 e\, was ihnen zu Gehör kommt und gefällt. So kam im Laufe der Jahre ein 
 ansehnliches Repertoire an traditionellen Tunes\, melancholischen Balladen
  und vieles mehr zusammen\, das sie am Freitag\, 19. September im Heinrich
  Kunst Haus (Sandweg 22\, Ofenerfeld) präsentieren wollen. Die Gruppe „
 Cantemar“ lädt das Publikum ein zum Tanzen\, Zuhören und Träumen\, he
 ißt es dann auch in ihrer Ankündigung. Konzertbeginn ist 19:30 Uhr. Kart
 en sind über den Ticketshop erhältlich.\n\n\n\nFoto: Cantemar
CATEGORIES:Konzert
LOCATION:Heinrich-Kunst-Haus\, Sandweg 22\, Wiefelstede\, Niedersachsen\, 2
 6215\, Oldenburg\, Deutschland
GEO:53.1946993;8.1879785
X-APPLE-STRUCTURED-LOCATION;VALUE=URI;X-ADDRESS=Sandweg 22\, Wiefelstede\, 
 Niedersachsen\, 26215\, Oldenburg\, Deutschland;X-APPLE-RADIUS=100;X-TITLE
 =Heinrich-Kunst-Haus:geo:53.1946993,8.1879785
END:VEVENT
BEGIN:VTIMEZONE
TZID:Europe/Berlin
X-LIC-LOCATION:Europe/Berlin
BEGIN:DAYLIGHT
DTSTART:20250330T030000
TZOFFSETFROM:+0100
TZOFFSETTO:+0200
TZNAME:CEST
END:DAYLIGHT
END:VTIMEZONE
END:VCALENDAR