BEGIN:VCALENDAR
VERSION:2.0
PRODID:-//wp-events-plugin.com//7.2.3.1//EN
TZID:Europe/Berlin
X-WR-TIMEZONE:Europe/Berlin
BEGIN:VEVENT
UID:48@heinrich-kunst-haus.de
DTSTART;TZID=Europe/Berlin:20200501T110000
DTEND;TZID=Europe/Berlin:20200501T110000
DTSTAMP:20200401T052600Z
URL:https://heinrich-kunst-haus.de/veranstaltungen/mai-feier-der-oertliche
 n-vereine-beim-heinrich-kunst-haus/
SUMMARY:Mai-Feier der örtlichen Vereine beim Heinrich-Kunst-Haus - fällt 
 aus!
DESCRIPTION:Die Feier um den Maibaum am 01 Mai\, fällt aufgrund der aktuel
 len Entwicklung und der sehr hohen Dynamik des Corona-Infektionsgeschehens
  in diesem Jahr leider aus! Wir sehen uns im nächsten Jahr wieder am Maib
 aum beim Heinrich-Kunst-Haus!\n\n\n&nbsp\;\n\n
LOCATION:Heinrich-Kunst-Haus\, Sandweg 22\, Wiefelstede\, Niedersachsen\, 2
 6215\, Oldenburg\, Deutschland
GEO:53.1946993;8.1879785
X-APPLE-STRUCTURED-LOCATION;VALUE=URI;X-ADDRESS=Sandweg 22\, Wiefelstede\, 
 Niedersachsen\, 26215\, Oldenburg\, Deutschland;X-APPLE-RADIUS=100;X-TITLE
 =Heinrich-Kunst-Haus:geo:53.1946993,8.1879785
END:VEVENT
BEGIN:VTIMEZONE
TZID:Europe/Berlin
X-LIC-LOCATION:Europe/Berlin
BEGIN:DAYLIGHT
DTSTART:20200329T030000
TZOFFSETFROM:+0100
TZOFFSETTO:+0200
TZNAME:CEST
END:DAYLIGHT
END:VTIMEZONE
END:VCALENDAR