BEGIN:VCALENDAR
VERSION:2.0
PRODID:-//wp-events-plugin.com//7.2.3.1//EN
TZID:Europe/Berlin
X-WR-TIMEZONE:Europe/Berlin
BEGIN:VEVENT
UID:127@heinrich-kunst-haus.de
DTSTART;TZID=Europe/Berlin:20211220T180000
DTEND;TZID=Europe/Berlin:20211220T180000
DTSTAMP:20211201T134637Z
URL:https://heinrich-kunst-haus.de/veranstaltungen/lebendiger-adventskalen
 der-beim-heinrich-kunst-haus-2/
SUMMARY:Lebendiger Adventskalender beim Heinrich-Kunst-Haus
DESCRIPTION:Lebendiger Adventskalender\n\nEine schöne Gelegenheit\, in die
 ser hektischen und unsicheren Zeit innezuhalten und miteinander ins Gespr
 äch zu kommen.\n\nHeinrich-Kunst-Haus\, Montag 20.12.2021\, 18:00 Uhr\n\n
 Weitere Termine:\n01.12.&nbsp\;&nbsp\; Gemeindezentrum Metjendorf\, Schulw
 eg 6\, Metjendorf\n02.12.&nbsp\;&nbsp\; AWO\, Renate Heerwagen\, Birkenstr
 aße 18\, Metjendorf\n03.12.&nbsp\;&nbsp\; Begegnungsstätte Heinrich-Kuns
 t\, Sandweg 22\, Ofenerfeld\n06.12.&nbsp\;&nbsp\; Gemeindezentrum Metjendo
 rf\, Schulweg 6\, Metjendorf\n10.12.&nbsp\;&nbsp\; Förderverein Grundschu
 le\, Grundschule Metjendorf\, Schulweg\, Metjendorf\n11.12.&nbsp\;&nbsp\;&
 nbsp\; Schützenverein Metjendorf\, Schützenhalle\, Metjendorf\n13.12.&nb
 sp\;&nbsp\; Gemeindezentrum Metjendorf\, Schulweg 6\, Metjendorf\n15.12.&n
 bsp\;&nbsp\; Ortsbürgerverein\, Familie Fankhänel\, Rotkehlchenweg 10\, 
 Metjendorf\n17.12.&nbsp\;&nbsp\; Ortsbürgerverein\, Familie Heinemann\, S
 andweg 6\, Ofenerfeld\n20.12.&nbsp\;&nbsp\; Begegnungsstätte Heinrich-Kun
 st\, Sandweg 22\, Ofenerfeld\n\n
LOCATION:Heinrich-Kunst-Haus\, Sandweg 22\, Wiefelstede\, Niedersachsen\, 2
 6215\, Oldenburg\, Deutschland
GEO:53.1946993;8.1879785
X-APPLE-STRUCTURED-LOCATION;VALUE=URI;X-ADDRESS=Sandweg 22\, Wiefelstede\, 
 Niedersachsen\, 26215\, Oldenburg\, Deutschland;X-APPLE-RADIUS=100;X-TITLE
 =Heinrich-Kunst-Haus:geo:53.1946993,8.1879785
END:VEVENT
BEGIN:VTIMEZONE
TZID:Europe/Berlin
X-LIC-LOCATION:Europe/Berlin
BEGIN:STANDARD
DTSTART:20211031T020000
TZOFFSETFROM:+0200
TZOFFSETTO:+0100
TZNAME:CET
END:STANDARD
END:VTIMEZONE
END:VCALENDAR