BEGIN:VCALENDAR
VERSION:2.0
PRODID:-//wp-events-plugin.com//7.2.3.1//EN
TZID:Europe/Berlin
X-WR-TIMEZONE:Europe/Berlin
BEGIN:VEVENT
UID:350@heinrich-kunst-haus.de
DTSTART;TZID=Europe/Berlin:20250601T110000
DTEND;TZID=Europe/Berlin:20250608T170000
DTSTAMP:20241216T214102Z
URL:https://heinrich-kunst-haus.de/veranstaltungen/kunstausstellung-im-hei
 nrich-kunst-haus-grosse-werkschau-der-kuenstlerin-ursel-hullen/
SUMMARY:Kunstausstellung im Heinrich Kunst Haus - Große Werkschau der Kün
 stlerin Ursel Hullen
DESCRIPTION:Kunstausstellung im Heinrich Kunst Haus\n\nGroße Werkschau der
  Künstlerin Ursel Hullen\n\nVon Sonntag\, 1. Juni bis Sonntag\, 8. Juni v
 erwandelt sich das Heinrich Kunst Haus (Sandweg 22\, Ofenerfeld) wieder ei
 n eine Kunstgalerie. Ursel Hullen stellt eine große Werkschau ihres langj
 ährigen Schaffens aus. Die Künstlerin wurde 1942 in Heidkamp geboren. Fr
 üh schon erkannte ihr Lehrer in Borbeck&nbsp\; ihr Maltalent\, eine Förd
 erung war aber nicht vorgesehen: sie musste wie ihre Geschwister eine land
 wirtschaftliche Ausbildung beginnen. Mit Anfang dreißig aber\, mittlerwei
 le mit einem Landwirt in Zetel verheiratet und Mutter dreier Kinder\, nahm
  sie ihren Mut zusammen und schaffte sich Staffel\, Leinen\, Pinsel und Fa
 rben an und begann zu malen – zwischen Melken in der Frühe und Melken a
 m Abend\, wie sie sagt. Landschaften\, Aquarelle\, Stilleben mit Blumen\, 
 Abstraktes und Konkretes: in ihrer fünfzig-jährigen Schaffenszeit ist vi
 eles zusammen gekommen.\n\nDie offizielle Eröffnung der Ausstellung ist a
 m Sonntag\, 1. Juni um 11 Uhr\, die dann noch wie an allen weiteren Tagen 
 bis 17 Uhr zu sehen ist. Der Eintritt ist frei. Ursel Hullen ist jeweils v
 or Ort und beantwortet auch gerne Fragen des Publikums.\n\n &nbsp\; \n\n
CATEGORIES:Ausstellung
LOCATION:Heinrich-Kunst-Haus\, Sandweg 22\, Wiefelstede\, Niedersachsen\, 2
 6215\, Oldenburg\, Deutschland
GEO:53.1946993;8.1879785
X-APPLE-STRUCTURED-LOCATION;VALUE=URI;X-ADDRESS=Sandweg 22\, Wiefelstede\, 
 Niedersachsen\, 26215\, Oldenburg\, Deutschland;X-APPLE-RADIUS=100;X-TITLE
 =Heinrich-Kunst-Haus:geo:53.1946993,8.1879785
END:VEVENT
BEGIN:VTIMEZONE
TZID:Europe/Berlin
X-LIC-LOCATION:Europe/Berlin
BEGIN:DAYLIGHT
DTSTART:20250330T030000
TZOFFSETFROM:+0100
TZOFFSETTO:+0200
TZNAME:CEST
END:DAYLIGHT
END:VTIMEZONE
END:VCALENDAR