BEGIN:VCALENDAR
VERSION:2.0
PRODID:-//wp-events-plugin.com//7.2.3.1//EN
TZID:Europe/Berlin
X-WR-TIMEZONE:Europe/Berlin
BEGIN:VEVENT
UID:149@heinrich-kunst-haus.de
DTSTART;TZID=Europe/Berlin:20221021T193000
DTEND;TZID=Europe/Berlin:20221021T210000
DTSTAMP:20221020T064651Z
URL:https://heinrich-kunst-haus.de/veranstaltungen/kumm-rin-un-sett-di-daa
 l/
SUMMARY:„Kumm rin un sett di daal“ - Die Veranstaltung entfällt wegen 
 Krankheit
DESCRIPTION:Die Veranstaltung entfällt leider wegen Krankheit!\n\n\nHeinri
 ch Kunst Haus: „Kumm rin un sett di daal“\n\nNiederdeutsche „Schriev
 er*innen“ präsentieren neue Texte\n\nIm Heinrich Kunst Haus wird wieder
  literarisch „gewarkelt“. Viele niederdeutsche Schriftstellerinnen und
  Schriftsteller aus dem Weser-Ems-Bereich treffen am 16. Oktober unter Lei
 tung von „Schrieverkring-Baas“ Rita Gnep im gemütlichen Ambiente des 
 Hauses zusammen\, um über ihre neuesten Werke zu diskutieren und an ihnen
  zu arbeiten: das passiert am „Warkel-Dag van`t Schrieverkring“. Am Vo
 rabend\, am Freitag\, 14. Oktober gibt es aus diesem Anlass eine öffentli
 che Lesung aus diesen Werken\, die die „Schrieverinnen un Schriever“ a
 uch selber vortragen.\n\nDie Veranstaltung beginnt um 19:30 Uhr. Der Eintr
 itt ist frei.
CATEGORIES:Lesung
LOCATION:Heinrich-Kunst-Haus\, Sandweg 22\, Wiefelstede\, Niedersachsen\, 2
 6215\, Oldenburg\, Deutschland
GEO:53.1946993;8.1879785
X-APPLE-STRUCTURED-LOCATION;VALUE=URI;X-ADDRESS=Sandweg 22\, Wiefelstede\, 
 Niedersachsen\, 26215\, Oldenburg\, Deutschland;X-APPLE-RADIUS=100;X-TITLE
 =Heinrich-Kunst-Haus:geo:53.1946993,8.1879785
END:VEVENT
BEGIN:VTIMEZONE
TZID:Europe/Berlin
X-LIC-LOCATION:Europe/Berlin
BEGIN:DAYLIGHT
DTSTART:20220327T030000
TZOFFSETFROM:+0100
TZOFFSETTO:+0200
TZNAME:CEST
END:DAYLIGHT
END:VTIMEZONE
END:VCALENDAR