BEGIN:VCALENDAR
VERSION:2.0
PRODID:-//wp-events-plugin.com//7.2.3.1//EN
TZID:Europe/Berlin
X-WR-TIMEZONE:Europe/Berlin
BEGIN:VEVENT
UID:304@heinrich-kunst-haus.de
DTSTART;TZID=Europe/Berlin:20241025T193000
DTEND;TZID=Europe/Berlin:20241025T210000
DTSTAMP:20240112T144946Z
URL:https://heinrich-kunst-haus.de/veranstaltungen/kumm-rin-un-sett-di-daa
 l-4/
SUMMARY:Kumm rin un sett di daal
DESCRIPTION:Heinrich Kunst Haus: „Kumm rin un sett di daal“\n\nNiederde
 utsche „Schriever*innen“ präsentieren neue Texte\n\nIm Heinrich Kunst
  Haus wird wieder literarisch „gewarkelt“. Viele niederdeutsche Schrif
 tstellerinnen und Schriftsteller aus dem Weser-Ems-Bereich treffen am 26. 
 Oktober unter Leitung von „Schrieverkring-Baas“ Rita Gnep im gemütlic
 hen Ambiente des Hauses zusammen\, um über ihre neuesten Werke zu diskuti
 eren und an ihnen zu arbeiten: das passiert am „Warkel-Dag van`t Schriev
 erkring“. Am Vorabend\, am Freitag\, 25. Oktober gibt es aus diesem Anla
 ss eine öffentliche Lesung aus diesen Werken\, die die „Schrieverinnen 
 un Schriever“ auch selber vortragen. Die Veranstaltung beginnt um 19:30 
 Uhr. Der Eintritt ist frei.
CATEGORIES:Lesung
LOCATION:Heinrich-Kunst-Haus\, Sandweg 22\, Wiefelstede\, Niedersachsen\, 2
 6215\, Oldenburg\, Deutschland
GEO:53.1946993;8.1879785
X-APPLE-STRUCTURED-LOCATION;VALUE=URI;X-ADDRESS=Sandweg 22\, Wiefelstede\, 
 Niedersachsen\, 26215\, Oldenburg\, Deutschland;X-APPLE-RADIUS=100;X-TITLE
 =Heinrich-Kunst-Haus:geo:53.1946993,8.1879785
END:VEVENT
BEGIN:VTIMEZONE
TZID:Europe/Berlin
X-LIC-LOCATION:Europe/Berlin
BEGIN:DAYLIGHT
DTSTART:20240331T030000
TZOFFSETFROM:+0100
TZOFFSETTO:+0200
TZNAME:CEST
END:DAYLIGHT
END:VTIMEZONE
END:VCALENDAR