BEGIN:VCALENDAR
VERSION:2.0
PRODID:-//wp-events-plugin.com//7.2.3.1//EN
TZID:Europe/Berlin
X-WR-TIMEZONE:Europe/Berlin
BEGIN:VEVENT
UID:168@heinrich-kunst-haus.de
DTSTART;TZID=Europe/Berlin:20220720T093000
DTEND;TZID=Europe/Berlin:20220720T110000
DTSTAMP:20220711T194815Z
URL:https://heinrich-kunst-haus.de/veranstaltungen/kulturcafe-im-heinrich-
 kunst-haus-neue-veranstaltungen-waehrend-der-sommerferien-2/
SUMMARY:Kulturcafe im Heinrich Kunst Haus - Neue Veranstaltungen während d
 er  Sommerferien
DESCRIPTION:Kulturcafe im Heinrich Kunst Haus\n\nNeue Veranstaltungen währ
 end der &nbsp\;Sommerferien\n\nLangeweile in den Sommerferien? Gertrud Heu
 er aus Metjendorf bietet während der Sommerferien zwei neue regelmäßige
  Veranstaltungen im Heinrich Kunst Haus (Sandweg 22\, Ofenerfeld) an. Ab D
 ienstag\, 19. Juli gibt es von 14 bis 15:30 Uhr ein Kulturcafe zum Thema: 
 „Wir entdecken die Natur in unserer direkten Umgebung und bestimmen zusa
 mmen Wildpflanzen“. Ein reger Informationsaustausch und eigene Ideen sin
 d willkommen\, so Gertrud Heuer. Und ab Mittwoch\, 20. Juli gibt es von 9:
 30 bis 11 Uhr ein Literaturcafe. &nbsp\;Lieblingsbücher werden besprochen
 \, jeder kann eigene Bücher mitbringen und vorstellen. Gemeinsame Lektür
 en können verabredet und anschließend besprochen werden. Auch hier würd
 e sich Gertrud Heuer über einen regen Informationsaustausch und viele Ide
 en freuen. Zu allen Terminen kann man ohne Anmeldung kommen\, der Eintritt
  kostet 1\,50 €. Das Angebot richtet sich sowohl an Jugendliche als auch
  an&nbsp\; Erwachsene.\n\n
LOCATION:Heinrich-Kunst-Haus\, Sandweg 22\, Wiefelstede\, Niedersachsen\, 2
 6215\, Oldenburg\, Deutschland
GEO:53.1946993;8.1879785
X-APPLE-STRUCTURED-LOCATION;VALUE=URI;X-ADDRESS=Sandweg 22\, Wiefelstede\, 
 Niedersachsen\, 26215\, Oldenburg\, Deutschland;X-APPLE-RADIUS=100;X-TITLE
 =Heinrich-Kunst-Haus:geo:53.1946993,8.1879785
END:VEVENT
BEGIN:VTIMEZONE
TZID:Europe/Berlin
X-LIC-LOCATION:Europe/Berlin
BEGIN:DAYLIGHT
DTSTART:20220327T030000
TZOFFSETFROM:+0100
TZOFFSETTO:+0200
TZNAME:CEST
END:DAYLIGHT
END:VTIMEZONE
END:VCALENDAR