BEGIN:VCALENDAR
VERSION:2.0
PRODID:-//wp-events-plugin.com//7.2.3.1//EN
TZID:Europe/Berlin
X-WR-TIMEZONE:Europe/Berlin
BEGIN:VEVENT
UID:178@heinrich-kunst-haus.de
DTSTART;TZID=Europe/Berlin:20221129T100000
DTEND;TZID=Europe/Berlin:20221129T113000
DTSTAMP:20221111T110338Z
URL:https://heinrich-kunst-haus.de/veranstaltungen/kulturcafe-im-heinrich-
 kunst-haus-2022-11-29/
SUMMARY:Kulturcafe im Heinrich Kunst Haus
DESCRIPTION:Kulturcafe im Heinrich Kunst Haus\n\nJetzt regelmäßige Verans
 taltung am Dienstag\n\nNach der guten Resonanz während der Sommerferien s
 oll das Kulturcafe nun regelmäßig angeboten werden: Gertrud Heuer lädt 
 jeden Dienstag von 10 bis 11:30 Uhr ins Heinrich Kunst Haus (Sandweg 22\, 
 Ofenerfeld) ein. Themen wie z.B. „Essbare Wildpflanzen“\, „Alles run
 d um den Holunder“\, „Bestimmung von heimischen Gräsern“ und „Alt
 ernative Heilmethoden“ stehen ebenso auf dem Programm wie interessante B
 uchvorstellungen\, kreatives Gestalten und gemeinsames Musizieren.\n\nThem
 a am 29. November: Upcycling - Aus ALT machen wir NEU -\nBitte etwas Altes
 \, eine gute Idee und passendes Werkzeug mitbringen.\n\n\nEin reger Inform
 ationsaustausch und eigene Ideen sind auch weiterhin gern gesehen\, so Ger
 trud Heuer. Zu allen Terminen kann man ohne Anmeldung kommen\, der Eintrit
 t kostet 2\,00 €. Das Angebot richtet sich an alle\, die neue Kontakte k
 nüpfen möchten und Spaß an gemeinsamen Aktivitäten haben.\n\n
CATEGORIES:Kulturcafe
LOCATION:Heinrich-Kunst-Haus\, Sandweg 22\, Wiefelstede\, Niedersachsen\, 2
 6215\, Oldenburg\, Deutschland
GEO:53.1946993;8.1879785
X-APPLE-STRUCTURED-LOCATION;VALUE=URI;X-ADDRESS=Sandweg 22\, Wiefelstede\, 
 Niedersachsen\, 26215\, Oldenburg\, Deutschland;X-APPLE-RADIUS=100;X-TITLE
 =Heinrich-Kunst-Haus:geo:53.1946993,8.1879785
END:VEVENT
BEGIN:VTIMEZONE
TZID:Europe/Berlin
X-LIC-LOCATION:Europe/Berlin
BEGIN:STANDARD
DTSTART:20221030T020000
TZOFFSETFROM:+0200
TZOFFSETTO:+0100
TZNAME:CET
END:STANDARD
END:VTIMEZONE
END:VCALENDAR