BEGIN:VCALENDAR
VERSION:2.0
PRODID:-//wp-events-plugin.com//7.2.3.1//EN
TZID:Europe/Berlin
X-WR-TIMEZONE:Europe/Berlin
BEGIN:VEVENT
UID:368@heinrich-kunst-haus.de
DTSTART;TZID=Europe/Berlin:20251204T193000
DTEND;TZID=Europe/Berlin:20251204T210000
DTSTAMP:20250124T114224Z
URL:https://heinrich-kunst-haus.de/veranstaltungen/konzert-und-lesung-zum-
 nikolaus-5/
SUMMARY:Konzert und Lesung zum Nikolaus
DESCRIPTION:Konzert und Lesung zum Nikolaus\n\nSpenden für NWZ-Weihnachtsa
 ktion\n\nDer Verein „Begegnungsstätte Heinrich Kunst e.V.“ und die Mu
 sikschule Sieglinde Heilig laden ein zu einem besonderen&nbsp\; „Nikolau
 s-Konzert“ ins Heinrich Kunst Haus (Sandweg 22\, Ofenerfeld). Mit advent
 lichen Klängen\, aber auch mit beschwingt-fröhlichen Tönen will das Sie
 glinde-Heilig-Ensemble am Donnerstag\, 4. Dezember die Zuhörer verzaubern
  und auf eine besinnliche und stimmungsvolle&nbsp\; Weihnachtszeit einstim
 men. Zur Abrundung des abwechslungsreichen Musik-Programms trägt Theo Ger
 des Weihnachtsgeschichten und Weihnachtsgedichte auf Hoch- und Plattdeutsc
 h vor – mal besinnlich\, mal nachdenklich\, mal humorvoll und amüsant. 
 Die Veranstaltung beginnt um 19:30 Uhr\, Einlass ist ab 19 Uhr. Der Eintri
 tt ist frei\, es wird aber um eine Spende gebeten\, die der NWZ-Weihnachts
 aktion zu Gute kommt.\n\n
CATEGORIES:Konzert,Lesung
LOCATION:Heinrich-Kunst-Haus\, Sandweg 22\, Wiefelstede\, Niedersachsen\, 2
 6215\, Oldenburg\, Deutschland
GEO:53.1946993;8.1879785
X-APPLE-STRUCTURED-LOCATION;VALUE=URI;X-ADDRESS=Sandweg 22\, Wiefelstede\, 
 Niedersachsen\, 26215\, Oldenburg\, Deutschland;X-APPLE-RADIUS=100;X-TITLE
 =Heinrich-Kunst-Haus:geo:53.1946993,8.1879785
END:VEVENT
BEGIN:VTIMEZONE
TZID:Europe/Berlin
X-LIC-LOCATION:Europe/Berlin
BEGIN:STANDARD
DTSTART:20251026T020000
TZOFFSETFROM:+0200
TZOFFSETTO:+0100
TZNAME:CET
END:STANDARD
END:VTIMEZONE
END:VCALENDAR