BEGIN:VCALENDAR
VERSION:2.0
PRODID:-//wp-events-plugin.com//7.2.3.1//EN
TZID:Europe/Berlin
X-WR-TIMEZONE:Europe/Berlin
BEGIN:VEVENT
UID:273@heinrich-kunst-haus.de
DTSTART;TZID=Europe/Berlin:20230924T140000
DTEND;TZID=Europe/Berlin:20230924T153000
DTSTAMP:20230906T211648Z
URL:https://heinrich-kunst-haus.de/veranstaltungen/konzert-sinfonisches-bl
 asorchester-oldenburg-vororchester/
SUMMARY:Konzert Sinfonisches Blasorchester Oldenburg - Vororchester
DESCRIPTION:Am Sonntag 24. September 2023 tritt auf dem Freigelände des Ve
 reins Begegnungsstätte Heinrich Kunst das Vororchester des Sinfonischen B
 lasorchesters Oldenburg auf. Das Vororchester besteht seit 2003\, wurde vo
 n dem Dirigenten Ralf Mahler gegründet und hat sich seitdem ständig weit
 erentwickelt. Zur Zeit besteht das Orchester aus fast 30 Musikern im Alter
  von 15 bis 80 Jahren. Es bietet die Möglichkeit für noch nicht so erfah
 rene Spieler erste Orchestererfahrungen zu sammeln. Das Repertoire bietet 
 für jeden Geschmack etwas\, so sind sowohl Klassik\, Pop und Rock\, Jazz\
 , Filmmusik als auch Originalkompositionen für Blasorchester zu finden.\n
 \nEintritt: 7\,00 € an der Tageskasse\nEinlass ab 13:15 Uhr\, Freigelän
 de des Vereins Begegnungsstätte Heinrich Kunst\, Sandweg 22\, 26215 Ofene
 rfeld\n\n
CATEGORIES:Konzert
LOCATION:Heinrich-Kunst-Haus\, Sandweg 22\, Wiefelstede\, Niedersachsen\, 2
 6215\, Oldenburg\, Deutschland
GEO:53.1946993;8.1879785
X-APPLE-STRUCTURED-LOCATION;VALUE=URI;X-ADDRESS=Sandweg 22\, Wiefelstede\, 
 Niedersachsen\, 26215\, Oldenburg\, Deutschland;X-APPLE-RADIUS=100;X-TITLE
 =Heinrich-Kunst-Haus:geo:53.1946993,8.1879785
END:VEVENT
BEGIN:VTIMEZONE
TZID:Europe/Berlin
X-LIC-LOCATION:Europe/Berlin
BEGIN:DAYLIGHT
DTSTART:20230326T030000
TZOFFSETFROM:+0100
TZOFFSETTO:+0200
TZNAME:CEST
END:DAYLIGHT
END:VTIMEZONE
END:VCALENDAR