BEGIN:VCALENDAR
VERSION:2.0
PRODID:-//wp-events-plugin.com//7.2.3.1//EN
TZID:Europe/Berlin
X-WR-TIMEZONE:Europe/Berlin
BEGIN:VEVENT
UID:134@heinrich-kunst-haus.de
DTSTART;TZID=Europe/Berlin:20220316T193000
DTEND;TZID=Europe/Berlin:20220316T210000
DTSTAMP:20220306T105043Z
URL:https://heinrich-kunst-haus.de/veranstaltungen/konzert-mit-iko-andrea-
 band-auch-neues-album-moses-im-gepaeck/
SUMMARY:Konzert mit Iko Andrea & Band - Auch neues Album „Moses“ im Gep
 äck
DESCRIPTION:Konzert mit Iko Andrea &amp\; Band \n\nAuch neues Album „Mose
 s“ im Gepäck\n\nAm Mittwoch\, 16. März&nbsp\; gastiert Iko Andrae mit 
 seiner Band „Jellyfish Rodeo" im Heinrich Kunst Haus (Sandweg 22\, Ofene
 rfeld) und stellt u.a. auch sein neues Album „Moses“ vor: dreizehn Son
 gs über das Leben in plattdeutscher Sprache mit eigenen Texten und auch e
 inigen von seinem Vater Oswald Andrae\, dem bekannten niederdeutschen Auto
 r aus Jever. Es spielen neben Iko Andrae\, der Gitarre spielt und auch sin
 gt\,&nbsp\; Michael Jungblut an der E-Gitarre\, Bahli Bahlmann am Schlagze
 ug und Olaf Liebert am Bass. Sie wollen mit „erdigen\, manchmal folkigen
 \, manchmal auch rockigen“ Songs und handgemachtem Sound ihr Publikum be
 geistern\, wie es in der Ankündigung heißt.\n\nDas Konzert im Heinrich K
 unst Haus beginnt um 19:30 Uhr\, Einlass ist ab 19 Uhr.\n\nKarten können 
 für 10 Euro ab sofort telefonisch bei Richard Eckhoff unter 0441-60735 od
 er 0171-4957241 bzw. unter E-Mail: kontakt@heinrich-kunst-haus.de vorbeste
 llt werden. Nach Eingang des Eintrittsgeldes werden die Karten verschickt 
 bzw. können abgeholt werden. Dafür ist im Heinrich Kunst Haus am Mittwoc
 h\, 02.03.\, am Montag\, 07.03. und am Montag\, 14.03. jeweils von 19 bis 
 20 Uhr eine Vorverkaufskasse geöffnet\, wo dann auch ohne Vorbestellung n
 och Rest-Karten erworben werden können.\n\nAm Tag der Veranstaltung gilt 
 die aktuelle der Corona Verordnung des Landes Niedersachsen vom 24.02.2022
 :\n- 3G-Regel im Innen- und Außenbereich\n- FFP2-Maske bis zum Sitzplatz 
 (darf am Sitzplatz abgenommen werden)\n- keine Abstandsmaßnahmen\n\nDer V
 erein bittet\, entsprechende Nachweise am Einlass bereit zu halten.\n\n&nb
 sp\;\n\n
CATEGORIES:Konzert
LOCATION:Heinrich-Kunst-Haus\, Sandweg 22\, Wiefelstede\, Niedersachsen\, 2
 6215\, Oldenburg\, Deutschland
GEO:53.1946993;8.1879785
X-APPLE-STRUCTURED-LOCATION;VALUE=URI;X-ADDRESS=Sandweg 22\, Wiefelstede\, 
 Niedersachsen\, 26215\, Oldenburg\, Deutschland;X-APPLE-RADIUS=100;X-TITLE
 =Heinrich-Kunst-Haus:geo:53.1946993,8.1879785
END:VEVENT
BEGIN:VTIMEZONE
TZID:Europe/Berlin
X-LIC-LOCATION:Europe/Berlin
BEGIN:STANDARD
DTSTART:20211031T020000
TZOFFSETFROM:+0200
TZOFFSETTO:+0100
TZNAME:CET
END:STANDARD
END:VTIMEZONE
END:VCALENDAR