BEGIN:VCALENDAR
VERSION:2.0
PRODID:-//wp-events-plugin.com//7.2.3.1//EN
TZID:Europe/Berlin
X-WR-TIMEZONE:Europe/Berlin
BEGIN:VEVENT
UID:354@heinrich-kunst-haus.de
DTSTART;TZID=Europe/Berlin:20250828T193000
DTEND;TZID=Europe/Berlin:20250828T210000
DTSTAMP:20250805T141808Z
URL:https://heinrich-kunst-haus.de/veranstaltungen/konzert-mit-iko-andrae-
 band-3/
SUMMARY:Konzert mit Iko Andrae & Band
DESCRIPTION:Konzert mit Iko Andrae &amp\; Band \n\nAuch viele neue Songs im
  Heinrich Kunst Haus\n\nAm Donnerstag\, 28. August&nbsp\; gastiert Singer 
 &amp\; Songwriter Iko Andrae aus Oldenburg&nbsp\; wieder mit seiner Band i
 m Heinrich Kunst Haus (Sandweg 22\, Ofenerfeld) und präsentiert alte und 
 auch viele neue Songs. In seiner langen musikalischen Karriere hat Iko And
 rae sich als vielseitiger Songschreiber in hochdeutscher\, plattdeutscher 
 und englischer Sprache erwiesen.&nbsp\; Es spielen neben Iko Andrae (Gitar
 re und Gesang)&nbsp\; Michael Jungblut (E-Gitarre)\, Bahli Bahlmann (Schla
 gzeug) und Olaf Liebert (Bass). Sie wollen mit „erdigen\, manchmal folki
 gen\, manchmal auch rockigen Songs und echt handgemachtem Sound“&nbsp\; 
 ihr Publikum begeistern\, wie es in der Ankündigung heißt. „Lasst euch
  überraschen“\, so Iko Andrae. Das Konzert im Heinrich Kunst Haus begin
 nt um 19:30 Uhr\, Einlass ist ab 19 Uhr. Karten gibt es für 10 Euro an de
 r Abendkasse.\n\n
CATEGORIES:Konzert
LOCATION:Heinrich-Kunst-Haus\, Sandweg 22\, Wiefelstede\, Niedersachsen\, 2
 6215\, Oldenburg\, Deutschland
GEO:53.1946993;8.1879785
X-APPLE-STRUCTURED-LOCATION;VALUE=URI;X-ADDRESS=Sandweg 22\, Wiefelstede\, 
 Niedersachsen\, 26215\, Oldenburg\, Deutschland;X-APPLE-RADIUS=100;X-TITLE
 =Heinrich-Kunst-Haus:geo:53.1946993,8.1879785
END:VEVENT
BEGIN:VTIMEZONE
TZID:Europe/Berlin
X-LIC-LOCATION:Europe/Berlin
BEGIN:DAYLIGHT
DTSTART:20250330T030000
TZOFFSETFROM:+0100
TZOFFSETTO:+0200
TZNAME:CEST
END:DAYLIGHT
END:VTIMEZONE
END:VCALENDAR