BEGIN:VCALENDAR
VERSION:2.0
PRODID:-//wp-events-plugin.com//7.2.3.1//EN
TZID:Europe/Berlin
X-WR-TIMEZONE:Europe/Berlin
BEGIN:VEVENT
UID:297@heinrich-kunst-haus.de
DTSTART;TZID=Europe/Berlin:20240920T193000
DTEND;TZID=Europe/Berlin:20240920T210000
DTSTAMP:20240902T211742Z
URL:https://heinrich-kunst-haus.de/veranstaltungen/konzert-mit-helmut-debu
 s/
SUMMARY:Konzert mit Helmut Debus
DESCRIPTION:Konzert mit Helmut Debus\n\nPlattdeutscher Liederpoet im Heinri
 ch Kunst Haus\n\nDer bekannte plattdeutsche Liedermacher Helmut Debus komm
 t nach Ofenerfeld: am Freitag\, 20. September gastiert er im Heinrich Kuns
 t Haus (Sandweg 22). Musikalisch begleitet wird er von seinem Sohn Jakob. 
 Und im Gepäck haben sie unter anderem das neue Album „Angst legg di sla
 pen“. Helmut Debus sagt dazu: „Dies ist ohne Übertreibung mein bestes
  Album bisher - vielleicht sogar die Platte meines Lebens“. Helmut Debus
  schreibt seit fast fünfzig Jahren Songs in seiner Herzens- und Poesiespr
 ache Niederdeutsch. Er hat für sein Schaffen viele Auszeichnungen und ren
 ommierte Preise bekommen. Eine Anmeldung mit Vorkasse für dieses Konzert 
 ist erforderlich. Karten gibt es bei Richard Eckhoff unter E-Mail: kontakt
 @heinrich-kunst-haus.de oder Tel.: 0441-60735 oder 0171-4957241. Vorverkau
 ftermine: Montag 09.09. und Montag 16.09.2024 jeweils von 19 - 20 Uhr im H
 einrich-Kunst-Haus.\nKonzertbeginn am 20.09. ist 19:30 Uhr\, Einlass ab 19
  Uhr.\n\n
CATEGORIES:Konzert
LOCATION:Heinrich-Kunst-Haus\, Sandweg 22\, Wiefelstede\, Niedersachsen\, 2
 6215\, Oldenburg\, Deutschland
GEO:53.1946993;8.1879785
X-APPLE-STRUCTURED-LOCATION;VALUE=URI;X-ADDRESS=Sandweg 22\, Wiefelstede\, 
 Niedersachsen\, 26215\, Oldenburg\, Deutschland;X-APPLE-RADIUS=100;X-TITLE
 =Heinrich-Kunst-Haus:geo:53.1946993,8.1879785
END:VEVENT
BEGIN:VTIMEZONE
TZID:Europe/Berlin
X-LIC-LOCATION:Europe/Berlin
BEGIN:DAYLIGHT
DTSTART:20240331T030000
TZOFFSETFROM:+0100
TZOFFSETTO:+0200
TZNAME:CEST
END:DAYLIGHT
END:VTIMEZONE
END:VCALENDAR