BEGIN:VCALENDAR
VERSION:2.0
PRODID:-//wp-events-plugin.com//7.2.3.1//EN
TZID:Europe/Berlin
X-WR-TIMEZONE:Europe/Berlin
BEGIN:VEVENT
UID:153@heinrich-kunst-haus.de
DTSTART;TZID=Europe/Berlin:20221019T193000
DTEND;TZID=Europe/Berlin:20221019T213000
DTSTAMP:20221003T083234Z
URL:https://heinrich-kunst-haus.de/veranstaltungen/konzert-mit-dem-trio-to
 fte/
SUMMARY:Konzert mit dem Trio „Tofte“
DESCRIPTION:Konzert mit dem Trio „Tofte“&nbsp\;\n\nMusiker*innen aus Ed
 ewecht spielen im Heinrich Kunst Haus\n\nNach zwei ausverkauften Konzerten
  im letzten Jahr\, die vom Publikum begeistert aufgenommen wurden\, nahm R
 ichard Eckhoff\, Vorsitzender des Vereins „Begegnungsstätte Heinrich Ku
 nst“ den drei Musiker*innen von der Gruppe „Tofte“ das Versprechen a
 b\, wieder zu kommen. Dieses Versprechen lösen sie jetzt ein: am Mittwoch
 \, 19. Oktober sind Anja Bahr-Dorsch\, Jürgen Bischoff und Alfred Hülska
 mp &nbsp\;ab 19:30 Uhr wieder zu Gast im Heinrich Kunst Haus (Sandweg 22\,
  Ofenerfeld). Dabei wollen sie auch diesmal wieder einen großen Bogen von
  ruhigen\, mehrstimmigen Balladen über irischen Folk bis zu rockig angeha
 uchten Stücken spannen\, und das mit überwiegend deutschen und plattdeut
 schen Texten. „Gespielt wird\, was Spaß macht“\, ist ihr Motto.\n\nKa
 rten können für 10 Euro per E-Mail (kontakt@heinrich-kunst-haus.de) bzw.
  telefonisch bei Richard Eckhoff unter 0441-60735 oder 0171-4957241 vorbes
 tellt werden. Nach Eingang des Eintrittsgeldes werden die Karten verschick
 t bzw. können abgeholt werden. Dafür ist im Heinrich Kunst Haus am Donne
 rstag\, 06.10.\, Montag\, 10.10. und am Dienstag\, 11.10. jeweils von 19 b
 is 20 Uhr eine Vorverkaufskasse geöffnet\, wo dann auch ohne Vorbestellun
 g Rest-Karten erworben werden können.\n\nAm Veranstaltungstag gilt die Ni
 edersächsische Verordnung über Schutzmaßnahmen gegen das Corona-Virus S
 ARS-CoV-2 und dessen Varianten (Niedersächsische Corona-Verordnung) vom 3
 0. September 2022. Besuchern wird empfohlen eigenverantwortlich eine Mund-
 Nasen-Bedeckung zu tragen\, da das Konzert in einem geschlossenem Raum mit
  höherem Besucheraufkommen durchgeführt wird.\n\n\n&nbsp\; 
CATEGORIES:Konzert
LOCATION:Heinrich-Kunst-Haus\, Sandweg 22\, Wiefelstede\, Niedersachsen\, 2
 6215\, Oldenburg\, Deutschland
GEO:53.1946993;8.1879785
X-APPLE-STRUCTURED-LOCATION;VALUE=URI;X-ADDRESS=Sandweg 22\, Wiefelstede\, 
 Niedersachsen\, 26215\, Oldenburg\, Deutschland;X-APPLE-RADIUS=100;X-TITLE
 =Heinrich-Kunst-Haus:geo:53.1946993,8.1879785
END:VEVENT
BEGIN:VTIMEZONE
TZID:Europe/Berlin
X-LIC-LOCATION:Europe/Berlin
BEGIN:DAYLIGHT
DTSTART:20220327T030000
TZOFFSETFROM:+0100
TZOFFSETTO:+0200
TZNAME:CEST
END:DAYLIGHT
END:VTIMEZONE
END:VCALENDAR