BEGIN:VCALENDAR
VERSION:2.0
PRODID:-//wp-events-plugin.com//7.2.3.1//EN
TZID:Europe/Berlin
X-WR-TIMEZONE:Europe/Berlin
BEGIN:VEVENT
UID:365@heinrich-kunst-haus.de
DTSTART;TZID=Europe/Berlin:20251119T193000
DTEND;TZID=Europe/Berlin:20251119T213000
DTSTAMP:20250822T170422Z
URL:https://heinrich-kunst-haus.de/veranstaltungen/konzert-mit-dem-trio-to
 fte-2/
SUMMARY:Konzert mit dem Trio „Tofte“
DESCRIPTION:Konzert mit dem Trio „Tofte“ \n\nMusiker*innen aus Edewecht
  spielen im Heinrich Kunst Haus\n\nNach mehreren ausverkauften Konzerten\,
  die vom Publikum begeistert aufgenommen wurden\, sind sie schon zu Freund
 en des Hauses geworden: die drei Musiker*innen von der Gruppe „Tofte“ 
 Anja Bahr-Dorsch\, Jürgen Bischoff und Alfred Hülskamp. Am Mittwoch\, 19
 . November sind &nbsp\;sie ab 19:30 Uhr wieder zu Gast im Heinrich Kunst H
 aus (Sandweg 22\, Ofenerfeld). Auch diesmal wollen sie wieder einen große
 n Bogen von ruhigen\, mehrstimmigen Balladen über irischen Folk bis zu ro
 ckig angehauchten Stücken spannen\, und das mit englischen\, deutschen un
 d plattdeutschen Texten. „Gespielt wird\, was Spaß macht“\, ist ihr M
 otto. Humorvolle Geschichten und Moderationen komplettieren ihr Programm.&
 nbsp\;Karten sind über den Ticketshop erhältlich.\n\n
CATEGORIES:Konzert
LOCATION:Heinrich-Kunst-Haus\, Sandweg 22\, Wiefelstede\, Niedersachsen\, 2
 6215\, Oldenburg\, Deutschland
GEO:53.1946993;8.1879785
X-APPLE-STRUCTURED-LOCATION;VALUE=URI;X-ADDRESS=Sandweg 22\, Wiefelstede\, 
 Niedersachsen\, 26215\, Oldenburg\, Deutschland;X-APPLE-RADIUS=100;X-TITLE
 =Heinrich-Kunst-Haus:geo:53.1946993,8.1879785
END:VEVENT
BEGIN:VTIMEZONE
TZID:Europe/Berlin
X-LIC-LOCATION:Europe/Berlin
BEGIN:STANDARD
DTSTART:20251026T020000
TZOFFSETFROM:+0200
TZOFFSETTO:+0100
TZNAME:CET
END:STANDARD
END:VTIMEZONE
END:VCALENDAR