BEGIN:VCALENDAR
VERSION:2.0
PRODID:-//wp-events-plugin.com//7.2.3.1//EN
TZID:Europe/Berlin
X-WR-TIMEZONE:Europe/Berlin
BEGIN:VEVENT
UID:86@heinrich-kunst-haus.de
DTSTART;TZID=Europe/Berlin:20201022T193000
DTEND;TZID=Europe/Berlin:20201022T193000
DTSTAMP:20201017T131636Z
URL:https://heinrich-kunst-haus.de/veranstaltungen/humorvolles-von-heinz-e
 rhardt-neue-veranstaltung/
SUMMARY:Humorvolles von Heinz Erhardt - Zusatztermin am 29.10.!
DESCRIPTION:Humorvolles von Heinz Erhardt\n\nTammo &amp\; Theo präsentiere
 n Gedichte und Lieder\n\nZusatztermin am Donnerstag 29.10.2020. Die Verans
 taltungen am 22.10. und 26.10. sind bereits ausverkauft!\n\nLachen und sch
 munzeln in Corona-Zeiten - das muss auch sein. Und dafür eignet sich das 
 humorvolle Werk von Heinz-Erhardt recht gut. Viele seiner sinnigen und hin
 tersinnigen\, manchmal auch unsinnigen Reime\, Sprüche&nbsp\; und Gedicht
 e sind ja fast schon Allgemeingut geworden. Tammo Poppinga und Theo Gerdes
  nähern sich am Donnerstag\, 22.10.2020\, am Montag\, 26.10.2020 und am D
 onnerstag 29.10.2020 im Heinrich Kunst Haus auf respektvolle Weise dem sch
 riftstellerischen Werk von Heinz Erhardt\, ohne ihn zu imitieren oder gar 
 zu parodieren – auf ihre eigene Art und Weise eben. Und das alles unter 
 dem Motto: „mal komisch\, mal besinnlich\, mal klassisch – aber immer 
 erstklassig“. Dass der musikalische Part dabei nicht zu kurz kommt\, ist
  Ehrensache\, versichern Tammo &amp\; Theo.\n\nDie Veranstaltung beginnt u
 m 19:30 Uhr\, Einlass ist ab 19 Uhr. Im Eintrittspreis von 7 Euro ist ein 
 Freigetränk enthalten. &nbsp\;Wegen der corona-bedingten Abstandsregel vo
 n 1\,5 m kann das Heinrich Kunst Haus zur Zeit nur ca. 30 Sitzplätze anbi
 eten. Deshalb ist eine Anmeldung mit Vorkasse für diese Veranstaltung unb
 edingt erforderlich.\nAnmelden kann man sich bei Richard Eckhoff unter E-M
 ail: kontakt@heinrich-kunst-haus.de\, oder telefonisch unter 0441-60735 bz
 w. 0171-4957241\n\n
LOCATION:Heinrich-Kunst-Haus\, Sandweg 22\, Wiefelstede\, Niedersachsen\, 2
 6215\, Oldenburg\, Deutschland
GEO:53.1946993;8.1879785
X-APPLE-STRUCTURED-LOCATION;VALUE=URI;X-ADDRESS=Sandweg 22\, Wiefelstede\, 
 Niedersachsen\, 26215\, Oldenburg\, Deutschland;X-APPLE-RADIUS=100;X-TITLE
 =Heinrich-Kunst-Haus:geo:53.1946993,8.1879785
END:VEVENT
BEGIN:VTIMEZONE
TZID:Europe/Berlin
X-LIC-LOCATION:Europe/Berlin
BEGIN:DAYLIGHT
DTSTART:20200329T030000
TZOFFSETFROM:+0100
TZOFFSETTO:+0200
TZNAME:CEST
END:DAYLIGHT
END:VTIMEZONE
END:VCALENDAR