BEGIN:VCALENDAR
VERSION:2.0
PRODID:-//wp-events-plugin.com//7.2.3.1//EN
TZID:Europe/Berlin
X-WR-TIMEZONE:Europe/Berlin
BEGIN:VEVENT
UID:87@heinrich-kunst-haus.de
DTSTART;TZID=Europe/Berlin:20201026T193000
DTEND;TZID=Europe/Berlin:20201026T193000
DTSTAMP:20200923T210810Z
URL:https://heinrich-kunst-haus.de/veranstaltungen/humorvolles-von-heinz-e
 rhardt-neue-veranstaltung-2/
SUMMARY:Humorvolles von Heinz Erhardt - Neue Veranstaltung!
DESCRIPTION:Humorvolles von Heinz Erhardt\n\nTammo &amp\; Theo präsentiere
 n Gedichte und Lieder\n\nLachen und schmunzeln in Corona-Zeiten - das muss
  auch sein. Und dafür eignet sich das humorvolle Werk von Heinz-Erhardt r
 echt gut. Viele seiner sinnigen und hintersinnigen\, manchmal auch unsinni
 gen Reime\, Sprüche&nbsp\; und Gedichte sind ja fast schon Allgemeingut g
 eworden. Tammo Poppinga und Theo Gerdes nähern sich am Donnerstag\, 22.10
 .2020 und am Montag\, 26.10.2020 im Heinrich Kunst Haus auf respektvolle W
 eise dem schriftstellerischen Werk von Heinz Erhardt\, ohne ihn zu imitier
 en oder gar zu parodieren – auf ihre eigene Art und Weise eben. Und das 
 alles unter dem Motto: „mal komisch\, mal besinnlich\, mal klassisch –
  aber immer erstklassig“. Dass der musikalische Part dabei nicht zu kurz
  kommt\, ist Ehrensache\, versichern Tammo &amp\; Theo.\n\nDie Veranstaltu
 ng beginnt um 19:30 Uhr\, Einlass ist ab 19 Uhr. Im Eintrittspreis von 7 E
 uro ist ein Freigetränk enthalten. &nbsp\;Wegen der corona-bedingten Abst
 andsregel von 1\,5 m kann das Heinrich Kunst Haus zur Zeit nur ca. 30 Sitz
 plätze anbieten. Deshalb ist eine Anmeldung mit Vorkasse für diese Veran
 staltung unbedingt erforderlich.\nAnmelden kann man sich bei Richard Eckho
 ff unter E-Mail: kontakt@heinrich-kunst-haus.de\, oder telefonisch unter 0
 441-60735 bzw. 0171-4957241\n\n
LOCATION:Heinrich-Kunst-Haus\, Sandweg 22\, Wiefelstede\, Niedersachsen\, 2
 6215\, Oldenburg\, Deutschland
GEO:53.1946993;8.1879785
X-APPLE-STRUCTURED-LOCATION;VALUE=URI;X-ADDRESS=Sandweg 22\, Wiefelstede\, 
 Niedersachsen\, 26215\, Oldenburg\, Deutschland;X-APPLE-RADIUS=100;X-TITLE
 =Heinrich-Kunst-Haus:geo:53.1946993,8.1879785
END:VEVENT
BEGIN:VTIMEZONE
TZID:Europe/Berlin
X-LIC-LOCATION:Europe/Berlin
BEGIN:STANDARD
DTSTART:20201025T020000
TZOFFSETFROM:+0200
TZOFFSETTO:+0100
TZNAME:CET
END:STANDARD
END:VTIMEZONE
END:VCALENDAR