BEGIN:VCALENDAR
VERSION:2.0
PRODID:-//wp-events-plugin.com//7.2.3.1//EN
TZID:Europe/Berlin
X-WR-TIMEZONE:Europe/Berlin
BEGIN:VEVENT
UID:108@heinrich-kunst-haus.de
DTSTART;TZID=Europe/Berlin:20211010T110000
DTEND;TZID=Europe/Berlin:20211010T170000
DTSTAMP:20210905T201918Z
URL:https://heinrich-kunst-haus.de/veranstaltungen/heimatkundliche-buecher
 boerse-im-heinrich-kunst-haus-mit-pflanzen-gartenmarkt/
SUMMARY:Heimatkundliche Bücherbörse im Heinrich-Kunst-Haus mit Pflanzen-/
 Gartenmarkt
DESCRIPTION:„Heimatkundliche Bücherbörse“&nbsp\; \n\n&nbsp\;Am 10. Ok
 tober auch Pflanzenflohmarkt rund ums Haus\n\nAm Samstag\, 9. Oktober und 
 Sonntag\, 10. Oktober 2021\, jeweils von 11 bis 17 Uhr\, gibt es im Heinri
 ch Kunst Haus (Sandweg 22\, Ofenerfeld)&nbsp\; wieder ein großes und viel
 fältiges Angebot an Heimat- und Regionalliteratur sowie an plattdeutschen
  Büchern: die „Heimatkundliche Bücherbörse“ öffnet seine Toren. Or
 ganisator Michael Heckes bietet zusammen mit anderen Sammlern und Anbieter
 n aus dem Umland interessierten Buchliebhabern und Leseratten in der liebe
 voll hergerichteten Diele des Heinrich Kunst Hauses Romane und Erzählunge
 n\, Chroniken\, Sachbücher und Bildbände\, Kalender und Kunstbücher\, w
 obei mancher Besucher&nbsp\; auch wohl auf ein besonderes Schnäppchen st
 ößt. Auch bei speziellen Fragen und Wünschen helfen die Buchverkäufer 
 gerne weiter und freuen sich auf viele Besucher.\nAm Sonntag\, 10. Oktober
  gibt es zusätzlich einen großen Pflanzenflohmarkt rund ums Heinrich Kun
 st Haus. Angeboten werden Stauden\, Blumenzwiebeln\, Sämereien\, aber auc
 h Gartendekorationen.\n\nEs gilt die 3G-Regel (geimpft\, genesen\, geteste
 t). Wer nicht vollständig geimpft ist oder nicht als genesen gilt\, hat e
 ntweder einen Antigen-Schnelltest (maximal 24 Stunden alt) oder einen PCR-
 Test (maximal 48 Stunden alt) vorzulegen. Der Verein bittet\, entspr. Nach
 weise bereit zu halten.\n\nDokumentation der Kontaktdaten digital/elektron
 isch am Einlass (Luca-App)\, im Einzelfall auch in Papierform.\n\n\nFoto: 
 NWZ
CATEGORIES:Bücher / Bibliothek,Haus &amp; Garten Pflege
LOCATION:Heinrich-Kunst-Haus\, Sandweg 22\, Wiefelstede\, Niedersachsen\, 2
 6215\, Oldenburg\, Deutschland
GEO:53.1946993;8.1879785
X-APPLE-STRUCTURED-LOCATION;VALUE=URI;X-ADDRESS=Sandweg 22\, Wiefelstede\, 
 Niedersachsen\, 26215\, Oldenburg\, Deutschland;X-APPLE-RADIUS=100;X-TITLE
 =Heinrich-Kunst-Haus:geo:53.1946993,8.1879785
END:VEVENT
BEGIN:VTIMEZONE
TZID:Europe/Berlin
X-LIC-LOCATION:Europe/Berlin
BEGIN:DAYLIGHT
DTSTART:20210328T030000
TZOFFSETFROM:+0100
TZOFFSETTO:+0200
TZNAME:CEST
END:DAYLIGHT
END:VTIMEZONE
END:VCALENDAR