BEGIN:VCALENDAR
VERSION:2.0
PRODID:-//wp-events-plugin.com//7.2.3.1//EN
TZID:Europe/Berlin
X-WR-TIMEZONE:Europe/Berlin
BEGIN:VEVENT
UID:97@heinrich-kunst-haus.de
DTSTART;TZID=Europe/Berlin:20210627T110000
DTEND;TZID=Europe/Berlin:20210627T170000
DTSTAMP:20210525T084335Z
URL:https://heinrich-kunst-haus.de/veranstaltungen/heimatkundliche-buecher
 boerse-im-heinrich-kunst-haus-2/
SUMMARY:Heimatkundliche Bücherbörse im Heinrich-Kunst-Haus
DESCRIPTION:„Heimatkundliche Bücherbörse“&nbsp\; \n\nAuch viele neue 
 Angebote im Heinrich Kunst Haus\n\nAm Samstag\, 26. Juni und Sonntag\, 27.
  Juni 2021\, jeweils von 11 bis 17 Uhr\, gibt es im Heinrich Kunst Haus (S
 andweg 22\, Ofenerfeld)&nbsp\; wieder ein großes und vielfältiges Angebo
 t an Heimat- und Regionalliteratur sowie an plattdeutschen Büchern: die 
 „Heimatkundliche Bücherbörse“ öffnet seine Toren. Organisator Micha
 el Heckes bietet zusammen mit verschiedenen Antiquariaten aus dem Umland i
 nteressierten Buchliebhabern und Leseratten in der liebevoll hergerichtete
 n Diele des Heinrich Kunst Hauses Chroniken und Erzählungen\, Sachbücher
  und Bildbände\, Kalender und Kunstbücher an\, wobei mancher Besucher au
 ch wohl auf ein besonderes „Schnäppchen“ stößt. Auch bei speziellen
  Fragen und Wünschen helfen die Buchverkäufer gerne weiter. Wegen der an
 haltenden Corona-Pandemie weisen die Veranstalter auf die Einhaltung der g
 eltenden Regeln und Bestimmungen wie Abstand\, Hygiene und Masken hin.&nbs
 p\;\n\n\n\n&nbsp\;
LOCATION:Heinrich-Kunst-Haus\, Sandweg 22\, Wiefelstede\, Niedersachsen\, 2
 6215\, Oldenburg\, Deutschland
GEO:53.1946993;8.1879785
X-APPLE-STRUCTURED-LOCATION;VALUE=URI;X-ADDRESS=Sandweg 22\, Wiefelstede\, 
 Niedersachsen\, 26215\, Oldenburg\, Deutschland;X-APPLE-RADIUS=100;X-TITLE
 =Heinrich-Kunst-Haus:geo:53.1946993,8.1879785
END:VEVENT
BEGIN:VTIMEZONE
TZID:Europe/Berlin
X-LIC-LOCATION:Europe/Berlin
BEGIN:DAYLIGHT
DTSTART:20210328T030000
TZOFFSETFROM:+0100
TZOFFSETTO:+0200
TZNAME:CEST
END:DAYLIGHT
END:VTIMEZONE
END:VCALENDAR