BEGIN:VCALENDAR
VERSION:2.0
PRODID:-//wp-events-plugin.com//7.2.3.1//EN
TZID:Europe/Berlin
X-WR-TIMEZONE:Europe/Berlin
BEGIN:VEVENT
UID:336@heinrich-kunst-haus.de
DTSTART;TZID=Europe/Berlin:20250413T110000
DTEND;TZID=Europe/Berlin:20250413T170000
DTSTAMP:20241121T094545Z
URL:https://heinrich-kunst-haus.de/veranstaltungen/heimatkundliche-buecher
 boerse-am-13-april-auch-mit-pflanzen-und-gartenmarkt-2/
SUMMARY:„Heimatkundliche Bücherbörse“ - Am 13. April auch mit Pflanz
 en- und Gartenmarkt
DESCRIPTION:„Heimatkundliche Bücherbörse“&nbsp\; \n\nAm 13. April auc
 h mit Pflanzen- und Gartenmarkt\n\nAm Samstag\, 12. April und Sonntag\, 13
 . April\, jeweils von 11 bis 17 Uhr\, gibt es im Heinrich Kunst Haus (Sand
 weg 22\, Ofenerfeld)&nbsp\; wieder ein großes und vielfältiges Angebot a
 n Heimat- und Regionalliteratur sowie an plattdeutschen Büchern: die „H
 eimatkundliche Bücherbörse“ öffnet seine Toren. Organisator Michael H
 eckes bietet zusammen mit verschiedenen Antiquariaten aus dem Umland inter
 essierten Buchliebhabern und Leseratten in der liebevoll hergerichteten Di
 ele des Heinrich Kunst Hauses Romane und Erzählungen\, Sachbücher und Bi
 ldbände\, Kalender und Kunstbücher an\, wobei mancher Besucher auch wohl
  auf ein besonderes „Schnäppchen“ stößt. Auch bei speziellen Fragen
  und Wünschen helfen die Buchverkäufer gerne weiter. Am Sonntag\, 13. Ap
 ril gibt es zusätzlich einen großen Pflanzen- und Gartenmarkt rund ums H
 einrich Kunst Haus. Angeboten werden Stauden\, Blumenzwiebeln\, Sämereien
 \, aber auch Gartendekorationen wie Keramiken und Schmiedearbeiten.\n\n
CATEGORIES:Bücher / Bibliothek,Haus &amp; Garten Pflege
LOCATION:Heinrich-Kunst-Haus\, Sandweg 22\, Wiefelstede\, Niedersachsen\, 2
 6215\, Oldenburg\, Deutschland
GEO:53.1946993;8.1879785
X-APPLE-STRUCTURED-LOCATION;VALUE=URI;X-ADDRESS=Sandweg 22\, Wiefelstede\, 
 Niedersachsen\, 26215\, Oldenburg\, Deutschland;X-APPLE-RADIUS=100;X-TITLE
 =Heinrich-Kunst-Haus:geo:53.1946993,8.1879785
END:VEVENT
BEGIN:VTIMEZONE
TZID:Europe/Berlin
X-LIC-LOCATION:Europe/Berlin
BEGIN:DAYLIGHT
DTSTART:20250330T030000
TZOFFSETFROM:+0100
TZOFFSETTO:+0200
TZNAME:CEST
END:DAYLIGHT
END:VTIMEZONE
END:VCALENDAR