BEGIN:VCALENDAR
VERSION:2.0
PRODID:-//wp-events-plugin.com//7.2.3.1//EN
TZID:Europe/Berlin
X-WR-TIMEZONE:Europe/Berlin
BEGIN:VEVENT
UID:364@heinrich-kunst-haus.de
DTSTART;TZID=Europe/Berlin:20251023T193000
DTEND;TZID=Europe/Berlin:20251023T210000
DTSTAMP:20250912T100754Z
URL:https://heinrich-kunst-haus.de/veranstaltungen/hafenmusik-musikalische
 -lesung/
SUMMARY:„Hafenmusik“\, Musikalische Lesung
DESCRIPTION:Musikalische Lesung: „Hafenmusik“\nNorbert Harms liest aus 
 seinen Lebenserinnerungen\n\nAm Donnerstag\, 23. Oktober gastiert Norbert 
 Harms mit seiner musikalischen Lesung „Hafenmusik“ im Heinrich Kunst H
 aus (Sandweg 22\, Ofenerfeld). Das Thema „Hafenmusik“ wählte er als M
 otto für seine autofiktionalen Texte\, die die Gesellschaft der 1960er un
 d 1970er Jahre widerspiegeln. Der Braker Hafen\, in dessen unmittelbarer N
 ähe er als Kind und Jugendlicher heranwuchs\, bildet dabei den Fokus. Mus
 ikalisch begleitet wird er von den stimmungsvoll-maritimen Akkordeonkläng
 en von Martina Klinger. Norbert Harms\, der als pensionierter Lehrer in Ol
 denburg lebt\, erhielt bei den Berner Bücherwochen Auszeichnungen für se
 ine Erzählungen und Kurzgeschichten und arbeitet regelmäßig in der Schr
 eibwerkstatt. Die Veranstaltung beginnt um 19:30 Uhr. Karten sind über de
 n Ticketshop erhältlich.\n\n
CATEGORIES:Konzert,Lesung
LOCATION:Heinrich-Kunst-Haus\, Sandweg 22\, Wiefelstede\, Niedersachsen\, 2
 6215\, Oldenburg\, Deutschland
GEO:53.1946993;8.1879785
X-APPLE-STRUCTURED-LOCATION;VALUE=URI;X-ADDRESS=Sandweg 22\, Wiefelstede\, 
 Niedersachsen\, 26215\, Oldenburg\, Deutschland;X-APPLE-RADIUS=100;X-TITLE
 =Heinrich-Kunst-Haus:geo:53.1946993,8.1879785
END:VEVENT
BEGIN:VTIMEZONE
TZID:Europe/Berlin
X-LIC-LOCATION:Europe/Berlin
BEGIN:DAYLIGHT
DTSTART:20250330T030000
TZOFFSETFROM:+0100
TZOFFSETTO:+0200
TZNAME:CEST
END:DAYLIGHT
END:VTIMEZONE
END:VCALENDAR