BEGIN:VCALENDAR
VERSION:2.0
PRODID:-//wp-events-plugin.com//7.2.3.1//EN
TZID:Europe/Berlin
X-WR-TIMEZONE:Europe/Berlin
BEGIN:VEVENT
UID:133@heinrich-kunst-haus.de
DTSTART;TZID=Europe/Berlin:20220224T170000
DTEND;TZID=Europe/Berlin:20220224T170000
DTSTAMP:20220218T123802Z
URL:https://heinrich-kunst-haus.de/veranstaltungen/groeoenkohl-eeten-2/
SUMMARY:Gröönkohl eeten
DESCRIPTION:„Gröönkohl eeten“ mit Spaziergang\n\nVerein bittet um rec
 htzeitige Anmeldung\n\nDas „Gröönkohl eeten“&nbsp\; des Vereins&nbsp
 \; Begegnungsstätte Heinrich Kunst findet &nbsp\;dieses Jahr im „Hotel 
 Köhncke“ in Metjendorf statt\, so der Vorstand des Vereins. Das deftige
  Essen mit allerlei Beilagen wird am Donnerstag\, 24. Februar ab 19 Uhr im
  großen Saal der Gaststätte serviert\, weil die Gäste hier mehr Abstand
  halten können. Dafür bittet der Verein um rechtzeitige Anmeldungen bis 
 zum 21. Februar&nbsp\; unter Telefonnummer 0441-60735 bzw. 0171-4957241 od
 er per E-Mail (kontakt@heinrich-kunst-haus.de).\nBereits um 17 Uhr treffen
  sich die Kohlfahrer*innen auf dem Hof des Heinrich Kunst Hauses (Sandweg 
 22\, Ofenerfeld)\, um sich vorher bei einem Spaziergang den nötigen Appet
 it zu holen.\n\nAm Tag der Veranstaltung gilt die 2G-Regel der Corona-Vero
 rdnung des Landes Niedersachsen.\n\n 
CATEGORIES:Tradition
LOCATION:Heinrich-Kunst-Haus\, Sandweg 22\, Wiefelstede\, Niedersachsen\, 2
 6215\, Oldenburg\, Deutschland
GEO:53.1946993;8.1879785
X-APPLE-STRUCTURED-LOCATION;VALUE=URI;X-ADDRESS=Sandweg 22\, Wiefelstede\, 
 Niedersachsen\, 26215\, Oldenburg\, Deutschland;X-APPLE-RADIUS=100;X-TITLE
 =Heinrich-Kunst-Haus:geo:53.1946993,8.1879785
END:VEVENT
BEGIN:VTIMEZONE
TZID:Europe/Berlin
X-LIC-LOCATION:Europe/Berlin
BEGIN:STANDARD
DTSTART:20211031T020000
TZOFFSETFROM:+0200
TZOFFSETTO:+0100
TZNAME:CET
END:STANDARD
END:VTIMEZONE
END:VCALENDAR