BEGIN:VCALENDAR
VERSION:2.0
PRODID:-//wp-events-plugin.com//7.2.3.1//EN
TZID:Europe/Berlin
X-WR-TIMEZONE:Europe/Berlin
BEGIN:VEVENT
UID:141@heinrich-kunst-haus.de
DTSTART;TZID=Europe/Berlin:20220501T110000
DTEND;TZID=Europe/Berlin:20220501T170000
DTSTAMP:20220103T212821Z
URL:https://heinrich-kunst-haus.de/veranstaltungen/froehliche-feier-rund-u
 m-den-maibaum/
SUMMARY:Fröhliche Feier rund um den Maibaum
DESCRIPTION:Fröhliche Feier rund um den Maibaum \n\nFamilienfest für Gro
 ß und Klein beim Heinrich Kunst Haus\n\nAuch dieses Jahr findet beim Hein
 rich Kunst Haus (Sandweg 22\, Ofenerfeld) wieder eine bunte und fröhliche
  Maifeier statt. Am Sonntag\, 1. Mai wird ab 11 Uhr der geschmückte Maiba
 um aufgestellt. Bei diesem Familienfest für Groß und Klein wird auf dem 
 Hof-Gelände und im Haus neben musikalischen Darbietungen auch mit Bratwur
 st\, Steaks\, Kaffee und Kuchen und Kaltgetränken für das leibliche Wohl
  der Besucher bestens gesorgt. Für Kinder sind einige Spielgeräte aufgeb
 aut. Der Vorstand weist außerdem darauf hin\, dass bereits am Donnerstag\
 , 28. April ab 19 Uhr beim Heinrich Kunst Haus ein öffentliches Kranzbind
 en bei Bratwurst &amp\; Bier stattfindet. Auch dazu ist jederman / jedefra
 u herzlich eingeladen.\n\nAm Tag der Veranstaltung gelten jeweils die aktu
 ellen Bestimmungen der Corona-Verordnung des Landes Niedersachsen. Aktuell
 e Hinweise werden vor dem Termin auf der Vereins-Homepage unter Veranstalt
 ungen eingestellt\n\n
CATEGORIES:Feste,Tradition
LOCATION:Heinrich-Kunst-Haus\, Sandweg 22\, Wiefelstede\, Niedersachsen\, 2
 6215\, Oldenburg\, Deutschland
GEO:53.1946993;8.1879785
X-APPLE-STRUCTURED-LOCATION;VALUE=URI;X-ADDRESS=Sandweg 22\, Wiefelstede\, 
 Niedersachsen\, 26215\, Oldenburg\, Deutschland;X-APPLE-RADIUS=100;X-TITLE
 =Heinrich-Kunst-Haus:geo:53.1946993,8.1879785
END:VEVENT
BEGIN:VTIMEZONE
TZID:Europe/Berlin
X-LIC-LOCATION:Europe/Berlin
BEGIN:DAYLIGHT
DTSTART:20220327T030000
TZOFFSETFROM:+0100
TZOFFSETTO:+0200
TZNAME:CEST
END:DAYLIGHT
END:VTIMEZONE
END:VCALENDAR