BEGIN:VCALENDAR
VERSION:2.0
PRODID:-//wp-events-plugin.com//7.2.3.1//EN
TZID:Europe/Berlin
X-WR-TIMEZONE:Europe/Berlin
BEGIN:VEVENT
UID:322@heinrich-kunst-haus.de
DTSTART;TZID=Europe/Berlin:20240829T193000
DTEND;TZID=Europe/Berlin:20240829T213000
DTSTAMP:20240813T082918Z
URL:https://heinrich-kunst-haus.de/veranstaltungen/folk-musiker-bob-fergus
 on-auf-zwischenstopp-in-ofenerfeld/
SUMMARY:Folk-Musiker Bob Ferguson auf Zwischenstopp in Ofenerfeld
DESCRIPTION:Auf Zwischenstopp in Ofenerfeld\n\nFolk-Musiker Bob Ferguson im
  Heinrich Kunst Haus\n\n&nbsp\;\n\nDer Folkmusiker Bob Ferguson besucht au
 f seiner Heimreise von Dänemark nach Schottland auch wieder das beschauli
 che Ofenerfeld. Am Donnerstag\, 29. August spielt und singt er ab 19:30 Uh
 r im Heinrich Kunst Haus schottische Balladen\, keltische Weisen und Folk-
 Musik „vom Feinsten“. Dabei&nbsp\; schafft er es immer wieder\, sein P
 ublikum zu verzaubern und in seine musikalische Welt zu entführen.&nbsp\;
 \n\nEine Anmeldung&nbsp\; für dieses Konzert ist erforderlich. Karten gib
 t es für 10 Euro unter E-Mail: kontakt@heinrich-kunst-haus.de bzw. unter 
 Telefon 0441-60735 oder 0171-4957241. Die Karten können dann an folgenden
  Vorverkaufsterminen abgeholt und bezahlt werden:\nMi. 21.08.2024\, Do. 22
 .08.2024 und Mo. 26.08.2024\, jeweils von 19 - 20 Uhr im Heinrich Kunst Hu
 as\, Sandweg 22\, 26215 Ofenerfeld\nAlternativ kann der Eintrittspreis vor
 ab auf das Vereinskonto überwiesen werden. Die Karten werden dann an der 
 Abendkasse hinterlegt oder auf Wunsch zugesandt. Nähere Infos hierzu unte
 r v.g. Kontaktdaten.\n\n
CATEGORIES:Konzert
LOCATION:Heinrich-Kunst-Haus\, Sandweg 22\, Wiefelstede\, Niedersachsen\, 2
 6215\, Oldenburg\, Deutschland
GEO:53.1946993;8.1879785
X-APPLE-STRUCTURED-LOCATION;VALUE=URI;X-ADDRESS=Sandweg 22\, Wiefelstede\, 
 Niedersachsen\, 26215\, Oldenburg\, Deutschland;X-APPLE-RADIUS=100;X-TITLE
 =Heinrich-Kunst-Haus:geo:53.1946993,8.1879785
END:VEVENT
BEGIN:VTIMEZONE
TZID:Europe/Berlin
X-LIC-LOCATION:Europe/Berlin
BEGIN:DAYLIGHT
DTSTART:20240331T030000
TZOFFSETFROM:+0100
TZOFFSETTO:+0200
TZNAME:CEST
END:DAYLIGHT
END:VTIMEZONE
END:VCALENDAR