BEGIN:VCALENDAR
VERSION:2.0
PRODID:-//wp-events-plugin.com//7.2.3.1//EN
TZID:Europe/Berlin
X-WR-TIMEZONE:Europe/Berlin
BEGIN:VEVENT
UID:71@heinrich-kunst-haus.de
DTSTART;TZID=Europe/Berlin:20201105T193000
DTEND;TZID=Europe/Berlin:20201105T193000
DTSTAMP:20200911T200031Z
URL:https://heinrich-kunst-haus.de/veranstaltungen/fahrradreisebericht-man
 fred-schrodke/
SUMMARY:Fahrradreisebericht\, Manfred Schrodke - Fällt leider aus!
DESCRIPTION:Die Veranstaltung 'Fahrradreisebericht mit Manfred Schrodke' am
  05. November 2020 muss aus persönlichen Gründen und aufgrund der Corona
 -Pandemie leider abgesagt werden.
CATEGORIES:Reisebericht
LOCATION:Heinrich-Kunst-Haus\, Sandweg 22\, Wiefelstede\, Niedersachsen\, 2
 6215\, Oldenburg\, Deutschland
GEO:53.1946993;8.1879785
X-APPLE-STRUCTURED-LOCATION;VALUE=URI;X-ADDRESS=Sandweg 22\, Wiefelstede\, 
 Niedersachsen\, 26215\, Oldenburg\, Deutschland;X-APPLE-RADIUS=100;X-TITLE
 =Heinrich-Kunst-Haus:geo:53.1946993,8.1879785
END:VEVENT
BEGIN:VTIMEZONE
TZID:Europe/Berlin
X-LIC-LOCATION:Europe/Berlin
BEGIN:STANDARD
DTSTART:20201025T020000
TZOFFSETFROM:+0200
TZOFFSETTO:+0100
TZNAME:CET
END:STANDARD
END:VTIMEZONE
END:VCALENDAR