BEGIN:VCALENDAR
VERSION:2.0
PRODID:-//wp-events-plugin.com//7.2.3.1//EN
TZID:Europe/Berlin
X-WR-TIMEZONE:Europe/Berlin
BEGIN:VEVENT
UID:88@heinrich-kunst-haus.de
DTSTART;TZID=Europe/Berlin:20201125T193000
DTEND;TZID=Europe/Berlin:20201125T193000
DTSTAMP:20201103T193415Z
URL:https://heinrich-kunst-haus.de/veranstaltungen/endlich-wieder-weihnach
 tszeit-eckard-klages-liest-weihnachtsgeschichten/
SUMMARY:„Endlich wieder Weihnachtszeit“ - Eckard Klages liest Weihnacht
 sgeschichten - Fällt leider aus!
DESCRIPTION:Die Veranstaltung 'Endlich wieder Weihnachtszeit' am 25. Novemb
 er 2020 muss aufgrund der neuen Corona-Verordnung des Landes Niedersachsen
  leider abgesagt werden. Die Begegnungsstätte Heinrich-Kunst ist vorerst 
 bis zum 30. Nov. 2020 geschlossen.\n\n\n„Endlich wieder Weihnachtszeit
 “\n\nEckard Klages liest Weihnachtsgeschichten- Neue Veranstaltung!\n\n\
 nZur Einstimmung auf die Advents- und Weihnachtszeit liest Eckard Klages a
 us Bokel aus seinem Buch „Endlich wieder Weihnachtszeit“. Am Mittwoch\
 , 25. Nov. 2020 will er ab 19:30 Uhr im Heinrich Kunst Haus (Sandweg 22\, 
 Ofenerfeld) das Publikum mit besinnlichen\, nachdenklichen und humorvollen
  Geschichten unterhalten. Die Veranstaltung beginnt um 19:30 Uhr\, Einlass
  ist ab 19 Uhr. Der Eintritt ist frei\, es wird aber um eine Spende gebete
 n\, die der Kinderkrebshilfe Ammerland zu Gute kommen soll.\n\nWegen der c
 orona-bedingten Abstandsregeln kann das Heinrich Kunst Haus zur Zeit nur c
 a. 30 Sitzplätze anbieten. Deshalb ist eine Anmeldung für diese Veransta
 ltung unbedingt erforderlich. Anmelden kann man sich telefonisch bei Richa
 rd Eckhoff unter 0441-60735 oder 0171-4957241 bzw. unter E-Mail: kontakt@h
 einrich-kunst-haus.de.&nbsp\;\n\n
LOCATION:Heinrich-Kunst-Haus\, Sandweg 22\, Wiefelstede\, Niedersachsen\, 2
 6215\, Oldenburg\, Deutschland
GEO:53.1946993;8.1879785
X-APPLE-STRUCTURED-LOCATION;VALUE=URI;X-ADDRESS=Sandweg 22\, Wiefelstede\, 
 Niedersachsen\, 26215\, Oldenburg\, Deutschland;X-APPLE-RADIUS=100;X-TITLE
 =Heinrich-Kunst-Haus:geo:53.1946993,8.1879785
END:VEVENT
BEGIN:VTIMEZONE
TZID:Europe/Berlin
X-LIC-LOCATION:Europe/Berlin
BEGIN:STANDARD
DTSTART:20201025T020000
TZOFFSETFROM:+0200
TZOFFSETTO:+0100
TZNAME:CET
END:STANDARD
END:VTIMEZONE
END:VCALENDAR