BEGIN:VCALENDAR
VERSION:2.0
PRODID:-//wp-events-plugin.com//7.2.3.1//EN
TZID:Europe/Berlin
X-WR-TIMEZONE:Europe/Berlin
BEGIN:VEVENT
UID:419@heinrich-kunst-haus.de
DTSTART;TZID=Europe/Berlin:20260908T193000
DTEND;TZID=Europe/Berlin:20260908T213000
DTSTAMP:20260417T182225Z
URL:https://heinrich-kunst-haus.de/veranstaltungen/ein-abend-ueber-die-lie
 be-zu-irland/
SUMMARY:Ein Abend über die Liebe zu Irland
DESCRIPTION:Irische Musik\, humorvolle Geschichten und Bilder\n\nMick Haeri
 ng ist Musiker\, Geschichtenerzähler\, Fotograf – und Irland-Liebhaber.
  In seinem Transit fuhr er 3000 km über die grüne Insel\, um Land und Le
 ute\, Kultur und Landschaft der grünen Insel kennenzulernen. Darüber wil
 l er in seiner „Mulimedia-Show“ am Dienstag\, 8. September im Heinrich
  Kunst Haus (Sandweg 22\, Ofenerfeld) erzählen und das Publikum mit schö
 nen Landschaftsfotos auf Großleinwand\, humorvollen Geschichten über Beg
 egnungen und Erlebtes und viel irischer Musik unterhalten. Was es dabei mi
 t dem Programmtitel „Puffins mit Ravioli“ auf sich hat\, wird Mick Hae
 ring dem Publikum erzählen. Er singt\, spielt Gitarre\, Akkordeon und Tin
  whistle und verspricht „eine musikalische Bilderschau\, nicht ohne Humo
 r“\, so auch in seiner Ankündigung. Die Veranstaltung beginnt um 19:30 
 Uhr\, Einlass ist ab 19 Uhr. Karten gibt es weiter unten für 10 Euro. Nur
  in Ausnahmefällen ist eine Reservierung per E-Mail unter kontakt@heinric
 h-kunst-haus.de möglich. Eventuelle Restkarten gibt es an der Abendkasse\
 , die ab 19 Uhr geöffnet hat.\n\n
CATEGORIES:Konzert,Lesung,Reisebericht
LOCATION:Heinrich-Kunst-Haus\, Sandweg 22\, Wiefelstede\, Niedersachsen\, 2
 6215\, Oldenburg\, Deutschland
GEO:53.1946993;8.1879785
X-APPLE-STRUCTURED-LOCATION;VALUE=URI;X-ADDRESS=Sandweg 22\, Wiefelstede\, 
 Niedersachsen\, 26215\, Oldenburg\, Deutschland;X-APPLE-RADIUS=100;X-TITLE
 =Heinrich-Kunst-Haus:geo:53.1946993,8.1879785
END:VEVENT
BEGIN:VTIMEZONE
TZID:Europe/Berlin
X-LIC-LOCATION:Europe/Berlin
BEGIN:DAYLIGHT
DTSTART:20260329T030000
TZOFFSETFROM:+0100
TZOFFSETTO:+0200
TZNAME:CEST
END:DAYLIGHT
END:VTIMEZONE
END:VCALENDAR