BEGIN:VCALENDAR
VERSION:2.0
PRODID:-//wp-events-plugin.com//7.2.3.1//EN
TZID:Europe/Berlin
X-WR-TIMEZONE:Europe/Berlin
BEGIN:VEVENT
UID:158@heinrich-kunst-haus.de
DTSTART;TZID=Europe/Berlin:20221124T193000
DTEND;TZID=Europe/Berlin:20221124T210000
DTSTAMP:20220320T225708Z
URL:https://heinrich-kunst-haus.de/veranstaltungen/de-plattdueuetsch-klenn
 er-up-dat-jahr-2023/
SUMMARY:De plattdüütsch-Klenner up dat Jahr 2023
DESCRIPTION:„De plattdüütsch-Klenner up dat Jahr 2023“\n\nLesung mit 
 Autor*inn*en im Heinrich Kunst Haus\n\nDen plattdeutschen Kalender gibt es
  bereits seit 1922 und wird herausgegeben vom „De Spieker – Heimatbund
  für niederdeutsche Kultur“. Neben einem umfangreichen Kalendarium gibt
  es wieder viele niederdeutsche Texte von Autorinnen und Autoren aus dem O
 ldenburger Land. Am Donnerstag\, 24. November tragen einige der „Schriev
 erinnen un Schriever“ ab 19:30 Uhr im Heinrich Kunst Haus (Sandweg 22\, 
 Ofenerfeld) ihre Texte daraus vor. Außerdem&nbsp\; können die Kalender v
 or Ort käuflich erworben werden: „De plattdüütsch Klenner is as jümm
 ers en wunnerbar Wiehnachtsgeschenk för all Frünnen van de plattdüütsc
 h Spraak un Kultur“\, empfiehlt Spiekerbaas Rita Kropp. Der Eintritt zu 
 dieser Lesung ist frei.\n\n
CATEGORIES:Lesung
LOCATION:Heinrich-Kunst-Haus\, Sandweg 22\, Wiefelstede\, Niedersachsen\, 2
 6215\, Oldenburg\, Deutschland
GEO:53.1946993;8.1879785
X-APPLE-STRUCTURED-LOCATION;VALUE=URI;X-ADDRESS=Sandweg 22\, Wiefelstede\, 
 Niedersachsen\, 26215\, Oldenburg\, Deutschland;X-APPLE-RADIUS=100;X-TITLE
 =Heinrich-Kunst-Haus:geo:53.1946993,8.1879785
END:VEVENT
BEGIN:VTIMEZONE
TZID:Europe/Berlin
X-LIC-LOCATION:Europe/Berlin
BEGIN:STANDARD
DTSTART:20221030T020000
TZOFFSETFROM:+0200
TZOFFSETTO:+0100
TZNAME:CET
END:STANDARD
END:VTIMEZONE
END:VCALENDAR