BEGIN:VCALENDAR
VERSION:2.0
PRODID:-//wp-events-plugin.com//7.2.3.1//EN
TZID:Europe/Berlin
X-WR-TIMEZONE:Europe/Berlin
BEGIN:VEVENT
UID:299@heinrich-kunst-haus.de
DTSTART;TZID=Europe/Berlin:20241007T193000
DTEND;TZID=Europe/Berlin:20241007T193000
DTSTAMP:20240112T144013Z
URL:https://heinrich-kunst-haus.de/veranstaltungen/de-leerk-ut-de-wesermar
 sch-alma-rogge-zum-130-geburtstag/
SUMMARY:De Leerk ut de Wesermarsch\, Alma Rogge zum 130. Geburtstag
DESCRIPTION:„De Leerk ut de Wesermarsch“ \n\nLesung: Alma Rogge zum 130
 . Geburtstag\n\nHof Brunswarden bei Rhodenkirchen in der Wesermarsch\, da 
 ist sie vor 130 Jahren geboren: die Schriftstellerin Alma Rogge. Hochdeuts
 che Geschichten\, plattdeutsche Anekdoten\, plattdeutsche Theaterstücke u
 nd mehr haben sie weit über Norddeutschland hinaus bekannt gemacht. Am Mo
 ntag\, 7. Oktober wollen Theo Gerdes\, Magitta Gerdes\, Hajo Freitag\, Hel
 ge Ihnen und Tammo Poppinga sie anlässlich ihres 130. Geburtstages in Eri
 nnerung rufen und im Heinrich Kunst Haus (Sandweg 22\, Ofenerfeld) aus ihr
 em Leben berichten und viele Geschichten\, Anekdoten und Gedichte vortrage
 n. Musikalisch bereichert wird die Lesung mit plattdeutschen Liedern von T
 ammo Poppinga. Die Veranstaltung beginnt um 19:30 Uhr\, Einlass ist ab 19 
 Uhr. Karten gibt es für 7 Euro an der Abendkasse.\n\n
CATEGORIES:Lesung
LOCATION:Heinrich-Kunst-Haus\, Sandweg 22\, Wiefelstede\, Niedersachsen\, 2
 6215\, Oldenburg\, Deutschland
GEO:53.1946993;8.1879785
X-APPLE-STRUCTURED-LOCATION;VALUE=URI;X-ADDRESS=Sandweg 22\, Wiefelstede\, 
 Niedersachsen\, 26215\, Oldenburg\, Deutschland;X-APPLE-RADIUS=100;X-TITLE
 =Heinrich-Kunst-Haus:geo:53.1946993,8.1879785
END:VEVENT
BEGIN:VTIMEZONE
TZID:Europe/Berlin
X-LIC-LOCATION:Europe/Berlin
BEGIN:DAYLIGHT
DTSTART:20240331T030000
TZOFFSETFROM:+0100
TZOFFSETTO:+0200
TZNAME:CEST
END:DAYLIGHT
END:VTIMEZONE
END:VCALENDAR