BEGIN:VCALENDAR
VERSION:2.0
PRODID:-//wp-events-plugin.com//7.2.3.1//EN
TZID:Europe/Berlin
X-WR-TIMEZONE:Europe/Berlin
BEGIN:VEVENT
UID:325@heinrich-kunst-haus.de
DTSTART;TZID=Europe/Berlin:20250130T193000
DTEND;TZID=Europe/Berlin:20250130T213000
DTSTAMP:20250112T200009Z
URL:https://heinrich-kunst-haus.de/veranstaltungen/das-heinrich-kunst-haus
 -rockt-blueskonzert-mit-e-b-haircut/
SUMMARY:Das Heinrich Kunst Haus „rockt“ - Blueskonzert mit „E & B Hai
 rcut“
DESCRIPTION: Das Heinrich Kunst Haus „rockt“\n\nBlueskonzert mit „E &
 amp\; B Haircut“ \n\nSeit vielen Jahren schon bestreiten Eckhard Harjes 
 und Andreas „Bahli“ Bahlmann den Auftakt einer abwechslungsreichen Kon
 zertreihe im Heinrich Kunst Haus (Sandweg 22\, Ofenerfeld). Am Donnerstag\
 , 30. Januar wollen die beiden Blues-Musiker\, die schon seit über 30 Jah
 ren zusammen spielen\, das Heinrich Kunst Haus (Sandweg 22\, Ofenerfeld) w
 ieder zum „rocken und swingen“ bringen. Mit vielen neuen\, aber auch a
 lten Songs bringen sie ihre gemeinsame Liebe zum ursprünglichen und handg
 emachten Blues und Americana zum Ausdruck „und schauen auch gerne mal be
 i den Blues-Größen Muddy Waters\, John Lee Hooker oder Howlin` Wolf um d
 ie Ecke“\, wie sie selber sagen. Auch diesmal werden sie von einem Über
 raschungsgast musikalisch unterstützt. Das Konzert beginnt um 19:30 Uhr. 
 Karten gibt es für 10 Euro an der Abendkasse\, die ab 19 Uhr geöffnet is
 t.\n\n&nbsp\; 
CATEGORIES:Konzert
LOCATION:Heinrich-Kunst-Haus\, Sandweg 22\, Wiefelstede\, Niedersachsen\, 2
 6215\, Oldenburg\, Deutschland
GEO:53.1946993;8.1879785
X-APPLE-STRUCTURED-LOCATION;VALUE=URI;X-ADDRESS=Sandweg 22\, Wiefelstede\, 
 Niedersachsen\, 26215\, Oldenburg\, Deutschland;X-APPLE-RADIUS=100;X-TITLE
 =Heinrich-Kunst-Haus:geo:53.1946993,8.1879785
END:VEVENT
BEGIN:VTIMEZONE
TZID:Europe/Berlin
X-LIC-LOCATION:Europe/Berlin
BEGIN:STANDARD
DTSTART:20241027T020000
TZOFFSETFROM:+0200
TZOFFSETTO:+0100
TZNAME:CET
END:STANDARD
END:VTIMEZONE
END:VCALENDAR