BEGIN:VCALENDAR
VERSION:2.0
PRODID:-//wp-events-plugin.com//7.2.3.1//EN
TZID:Europe/Berlin
X-WR-TIMEZONE:Europe/Berlin
BEGIN:VEVENT
UID:151@heinrich-kunst-haus.de
DTSTART;TZID=Europe/Berlin:20220421T193000
DTEND;TZID=Europe/Berlin:20220421T213000
DTSTAMP:20220218T123240Z
URL:https://heinrich-kunst-haus.de/veranstaltungen/das-heinrich-kunst-haus
 -rockt-blues-konzert-im-heinrich-kunst-haus/
SUMMARY:Das Heinrich Kunst Haus „rockt“ - Blues Konzert im Heinrich-Kun
 st-Haus
DESCRIPTION:„… and the Blues goes on …“\n\nE &amp\; B Haircut mit n
 euem Album im Heinrich Kunst Haus\n\nDas im Januar abgesagte Blues-Konzert
  wird jetzt am Donnerstag\, 21. April nachgeholt: Eckhard Harjes und Andre
 as „Bahli“ Bahlmann\, bekannt auch als „E &amp\; B Haircut“\, woll
 en das Heinrich Kunst Haus (Sandweg 22\, Ofenerfeld) wieder zum „rocken 
 und swingen“ bringen. Im Gepäck haben sie dieses Jahr ein neues Album m
 it vielen neuen Blues-Songs\, die nun live vor Publikum gespielt werden so
 llen. Auch diesmal werden sie von einem Überraschungsgast musikalisch unt
 erstützt. Das Konzert beginnt um 19:30 Uhr\, Einlass ist ab 19 Uhr.&nbsp\
 ;\n\nKarten können für 10 Euro telefonisch bei Richard Eckhoff unter E-M
 ail kontakt@heinrich-kunst-haus.de bzw. unter Telefon 0441-60735 oder 0171
 -4957241 vorbestellt werden. Nach Eingang des Eintrittsgeldes werden die K
 arten verschickt bzw. können abgeholt werden. Dafür ist im Heinrich Kuns
 t Haus am Dienstag\, 12.04.\, Mittwoch\, 13.04. und Donnerstag\, 14.04.&nb
 sp\; jeweils von 18 bis 19 Uhr eine Vorverkaufskasse geöffnet\, wo dann a
 uch ohne Vorbestellung Rest-Karten erworben werden können. &nbsp\;\n\nAm 
 Tag der Veranstaltung gelten die aktuellen Bestimmungen der Corona-Verordn
 ung des Landes Niedersachsen. Laut Übersicht der neuen Verordnung mit Sta
 nd 17.02.2022 gilt die 3G-Regel. Im Haus ist eine FFP-2 Maske zu tragen\, 
 die am Sitzplatz abgenommen werden darf.\n\n&nbsp\;\n\n
CATEGORIES:Konzert
LOCATION:Heinrich-Kunst-Haus\, Sandweg 22\, Wiefelstede\, Niedersachsen\, 2
 6215\, Oldenburg\, Deutschland
GEO:53.1946993;8.1879785
X-APPLE-STRUCTURED-LOCATION;VALUE=URI;X-ADDRESS=Sandweg 22\, Wiefelstede\, 
 Niedersachsen\, 26215\, Oldenburg\, Deutschland;X-APPLE-RADIUS=100;X-TITLE
 =Heinrich-Kunst-Haus:geo:53.1946993,8.1879785
END:VEVENT
BEGIN:VTIMEZONE
TZID:Europe/Berlin
X-LIC-LOCATION:Europe/Berlin
BEGIN:DAYLIGHT
DTSTART:20220327T030000
TZOFFSETFROM:+0100
TZOFFSETTO:+0200
TZNAME:CEST
END:DAYLIGHT
END:VTIMEZONE
END:VCALENDAR