BEGIN:VCALENDAR
VERSION:2.0
PRODID:-//wp-events-plugin.com//7.2.3.1//EN
TZID:Europe/Berlin
X-WR-TIMEZONE:Europe/Berlin
BEGIN:VEVENT
UID:105@heinrich-kunst-haus.de
DTSTART;TZID=Europe/Berlin:20211028T193000
DTEND;TZID=Europe/Berlin:20211028T193000
DTSTAMP:20211020T101029Z
URL:https://heinrich-kunst-haus.de/veranstaltungen/bueckel-grillen-am-offe
 nen-feuer/
SUMMARY:„Bückel grillen“ am offenen Feuer - Ausverkauft!
DESCRIPTION:„Bückel grillen“ am offenen Feuer - Ausverkauft!\n\n\nVere
 in bittet um rechtzeitige Anmeldung\n\n„Bückel“ – das sind grüne H
 eringe\, filetiert und gewürzt. Am offenen Kaminfeuer werden sie im Heinr
 ich Kunst Haus (Sandweg 22\, Ofenerfeld) in sogenannten Fischzangen zubere
 itet und anschließend zu herzhaftem Schwarzbrot verzehrt. Der Verein Bege
 gnungsstätte Heinrich Kunst e.V. &nbsp\;lädt für Donnerstag\, 28. Oktob
 er 2021 ab 19:30 Uhr wieder alle Mitglieder und Freunde zu seinem traditio
 nellen „Bückel eeten“ ein. Wegen des begrenzten Platzangebotes bittet
  der Verein um rechtzeitige und verbindliche Anmeldung bis zum 15. Oktober
  unter Telefonnummer 0441-60735 oder 0171-4957241 bzw. per E-Mail unter ko
 ntakt@heinrich-kunst-haus.de. Einlass ist ab 19 Uhr.\n\nEs gilt die 2G-Reg
 el (geimpft\, genesen). Die Teilnahme an der Veranstaltung ist nur möglic
 h\, wer vollständig geimpft oder als von einer Covid-Infektion genesen gi
 lt. Der Verein bittet\, entspr. Nachweise am Einlass bereit zu halten.\n\n
 Dokumentation der Kontaktdaten digital/elektronisch am Einlass (Luca-App)\
 , im Einzelfall auch in Papierform.\n\n&nbsp\;\n\n &nbsp\;&nbsp\; 
CATEGORIES:Tradition
LOCATION:Heinrich-Kunst-Haus\, Sandweg 22\, Wiefelstede\, Niedersachsen\, 2
 6215\, Oldenburg\, Deutschland
GEO:53.1946993;8.1879785
X-APPLE-STRUCTURED-LOCATION;VALUE=URI;X-ADDRESS=Sandweg 22\, Wiefelstede\, 
 Niedersachsen\, 26215\, Oldenburg\, Deutschland;X-APPLE-RADIUS=100;X-TITLE
 =Heinrich-Kunst-Haus:geo:53.1946993,8.1879785
END:VEVENT
BEGIN:VTIMEZONE
TZID:Europe/Berlin
X-LIC-LOCATION:Europe/Berlin
BEGIN:DAYLIGHT
DTSTART:20210328T030000
TZOFFSETFROM:+0100
TZOFFSETTO:+0200
TZNAME:CEST
END:DAYLIGHT
END:VTIMEZONE
END:VCALENDAR