BEGIN:VCALENDAR
VERSION:2.0
PRODID:-//wp-events-plugin.com//7.2.3.1//EN
TZID:Europe/Berlin
X-WR-TIMEZONE:Europe/Berlin
BEGIN:VEVENT
UID:303@heinrich-kunst-haus.de
DTSTART;TZID=Europe/Berlin:20241024T193000
DTEND;TZID=Europe/Berlin:20241024T213000
DTSTAMP:20240112T144816Z
URL:https://heinrich-kunst-haus.de/veranstaltungen/bueckel-grillen-am-offe
 nen-feuer-3/
SUMMARY:„Bückel grillen“ am offenen Feuer
DESCRIPTION:„Bückel grillen“ am offenen Feuer \n\nVerein bittet um rec
 htzeitige Anmeldung\n\n„Bückel“ – das sind grüne Heringe\, filetie
 rt und gewürzt. Am offenen Kaminfeuer werden sie im Heinrich Kunst Haus (
 Sandweg 22\, Ofenerfeld) in sogenannten Fischzangen selbst zubereitet und 
 anschließend zu herzhaftem Schwarzbrot verzehrt. Der Verein Begegnungsst
 ätte Heinrich Kunst e.V. &nbsp\;lädt für Donnerstag\, 24. Oktober ab 19
 :30 Uhr wieder alle Mitglieder und Freunde zu seinem traditionellen „Bü
 ckel eeten“ ein. Wegen des begrenzten Platzangebotes bittet der Verein u
 m rechtzeitige und verbindliche Anmeldung bis zum 16. Oktober unter Telefo
 nnummer 0441-60735 oder 0171-4957241 bzw. per E-Mail unter kontakt@heinric
 h-kunst-haus.de. Einlass ist ab 19 Uhr.\n\n
CATEGORIES:Tradition
LOCATION:Heinrich-Kunst-Haus\, Sandweg 22\, Wiefelstede\, Niedersachsen\, 2
 6215\, Oldenburg\, Deutschland
GEO:53.1946993;8.1879785
X-APPLE-STRUCTURED-LOCATION;VALUE=URI;X-ADDRESS=Sandweg 22\, Wiefelstede\, 
 Niedersachsen\, 26215\, Oldenburg\, Deutschland;X-APPLE-RADIUS=100;X-TITLE
 =Heinrich-Kunst-Haus:geo:53.1946993,8.1879785
END:VEVENT
BEGIN:VTIMEZONE
TZID:Europe/Berlin
X-LIC-LOCATION:Europe/Berlin
BEGIN:DAYLIGHT
DTSTART:20240331T030000
TZOFFSETFROM:+0100
TZOFFSETTO:+0200
TZNAME:CEST
END:DAYLIGHT
END:VTIMEZONE
END:VCALENDAR