BEGIN:VCALENDAR
VERSION:2.0
PRODID:-//wp-events-plugin.com//7.2.3.1//EN
TZID:Europe/Berlin
X-WR-TIMEZONE:Europe/Berlin
BEGIN:VEVENT
UID:210@heinrich-kunst-haus.de
DTSTART;TZID=Europe/Berlin:20221126T090000
DTEND;TZID=Europe/Berlin:20221126T120000
DTSTAMP:20221111T094048Z
URL:https://heinrich-kunst-haus.de/veranstaltungen/arbeitseinsatz-im-und-u
 m-das-heinrich-kunst-haus/
SUMMARY:Arbeitseinsatz im und um das Heinrich Kunst Haus
DESCRIPTION:Arbeitseinsatz im und um das Heinrich Kunst Haus\n\nDer Verein 
 Begegnungsstätte Heinrich Kunst Haus lädt herzlich ein zu einem gemeinsa
 men Arbeitseinsatz im und um das Heinrich Kunst Haus. Damit das Haus und d
 as Gelände aufgeräumt und winterfest in den Winter gehen kann\, sind ver
 schiedene Arbeiten erforderlich. Über eine zahlreiche Beteiligung freut s
 ich der Vereinsvorstand!\nTreffpunkt: Samstag 26. November\, 09:00 Uhr\, H
 einrich-Kunst-Haus\, Sandweg 22\, Ofenerfeld\nBitte eigenes Gartenwerkzeug
  mitbringen (Astschere\, Gartenschere\, Laubrechen etc.).\n\nFür eine Kaf
 fee-/Tee-/Brötchenpause wird gesorgt.
CATEGORIES:Haus &amp; Garten Pflege
LOCATION:Heinrich-Kunst-Haus\, Sandweg 22\, Wiefelstede\, Niedersachsen\, 2
 6215\, Oldenburg\, Deutschland
GEO:53.1946993;8.1879785
X-APPLE-STRUCTURED-LOCATION;VALUE=URI;X-ADDRESS=Sandweg 22\, Wiefelstede\, 
 Niedersachsen\, 26215\, Oldenburg\, Deutschland;X-APPLE-RADIUS=100;X-TITLE
 =Heinrich-Kunst-Haus:geo:53.1946993,8.1879785
END:VEVENT
BEGIN:VTIMEZONE
TZID:Europe/Berlin
X-LIC-LOCATION:Europe/Berlin
BEGIN:STANDARD
DTSTART:20221030T020000
TZOFFSETFROM:+0200
TZOFFSETTO:+0100
TZNAME:CET
END:STANDARD
END:VTIMEZONE
END:VCALENDAR