BEGIN:VCALENDAR
VERSION:2.0
PRODID:-//wp-events-plugin.com//7.2.3.1//EN
TZID:Europe/Berlin
X-WR-TIMEZONE:Europe/Berlin
BEGIN:VEVENT
UID:124@heinrich-kunst-haus.de
DTSTART;TZID=Europe/Berlin:20211126T090000
DTEND;TZID=Europe/Berlin:20211126T120000
DTSTAMP:20211112T100054Z
URL:https://heinrich-kunst-haus.de/veranstaltungen/arbeitseinsatz-im-und-u
 m-das-heinrich-kunst-haus-herum/
SUMMARY:Arbeitseinsatz im und um das Heinrich-Kunst-Haus herum
DESCRIPTION:Zu einem Arbeitseinsatz treffen sich Freunde und Mitglieder des
  Heinrich-Kunst-Hauses im Sandweg 22\, Ofenerfeld\, am Freitag 26. Novembe
 r ab 09:00 Uhr.\n\nJe nach Wetterlage können Gartenarbeiten und Aufräuma
 rbeiten in Haus und Scheune geleistet werden\, damit alles Winterfest und 
 für die kommende Saison vorbereitet ist. Jede/r weitere Helferin und Helf
 er ist herzlich willkommen. Für Gartenarbeiten bitte eigenes Kleinwerkzeu
 g mitbringen.
CATEGORIES:Haus &amp; Garten Pflege
LOCATION:Heinrich-Kunst-Haus\, Sandweg 22\, Wiefelstede\, Niedersachsen\, 2
 6215\, Oldenburg\, Deutschland
GEO:53.1946993;8.1879785
X-APPLE-STRUCTURED-LOCATION;VALUE=URI;X-ADDRESS=Sandweg 22\, Wiefelstede\, 
 Niedersachsen\, 26215\, Oldenburg\, Deutschland;X-APPLE-RADIUS=100;X-TITLE
 =Heinrich-Kunst-Haus:geo:53.1946993,8.1879785
END:VEVENT
BEGIN:VTIMEZONE
TZID:Europe/Berlin
X-LIC-LOCATION:Europe/Berlin
BEGIN:STANDARD
DTSTART:20211031T020000
TZOFFSETFROM:+0200
TZOFFSETTO:+0100
TZNAME:CET
END:STANDARD
END:VTIMEZONE
END:VCALENDAR