BEGIN:VCALENDAR
VERSION:2.0
PRODID:-//wp-events-plugin.com//7.2.3.1//EN
TZID:Europe/Berlin
X-WR-TIMEZONE:Europe/Berlin
BEGIN:VEVENT
UID:226@heinrich-kunst-haus.de
DTSTART;TZID=Europe/Berlin:20230903T110000
DTEND;TZID=Europe/Berlin:20230903T170000
DTSTAMP:20230112T093802Z
URL:https://heinrich-kunst-haus.de/veranstaltungen/antiquarischer-buecherm
 arkt-buecher-von-vor-1933-im-heinrich-kunst-haus/
SUMMARY:Antiquarischer Büchermarkt\, Bücher von vor 1933 im Heinrich Kuns
 t Haus
DESCRIPTION:„Antiquarischer Büchermarkt“&nbsp\; \n\nBücher von vor 19
 33 im Heinrich Kunst Haus \n\nAm Sonntag\, 3. September bieten „Bücherm
 ichel“ Michael Heckes und weitere Antiquariate aus dem Ammerland und dem
  Oldenburger Umland einen Büchermarkt der besonderen Art: von 11 bis 17 U
 hr gibt es im Heinrich Kunst Haus (Sandweg 22\, Ofenerfeld)&nbsp\; antiqua
 rische Bücher\, die vor 1933 erschienen sind: Romane und Erzählungen\, S
 achbücher und Bildbände\, Chroniken\, Kalender und Kunstbücher\, wobei 
 auch viele literarische Seltenheiten und Kostbarkeiten auf Buchliebhaber w
 arten. Organisator Michael Heckes und seine Kollegen helfen bei speziellen
  Fragen und Wünschen gerne weiter und freuen sich auf viele Besucher.\n\n
CATEGORIES:Basar / Markt,Bücher / Bibliothek
LOCATION:Heinrich-Kunst-Haus\, Sandweg 22\, Wiefelstede\, Niedersachsen\, 2
 6215\, Oldenburg\, Deutschland
GEO:53.1946993;8.1879785
X-APPLE-STRUCTURED-LOCATION;VALUE=URI;X-ADDRESS=Sandweg 22\, Wiefelstede\, 
 Niedersachsen\, 26215\, Oldenburg\, Deutschland;X-APPLE-RADIUS=100;X-TITLE
 =Heinrich-Kunst-Haus:geo:53.1946993,8.1879785
END:VEVENT
BEGIN:VTIMEZONE
TZID:Europe/Berlin
X-LIC-LOCATION:Europe/Berlin
BEGIN:DAYLIGHT
DTSTART:20230326T030000
TZOFFSETFROM:+0100
TZOFFSETTO:+0200
TZNAME:CEST
END:DAYLIGHT
END:VTIMEZONE
END:VCALENDAR