BEGIN:VCALENDAR
VERSION:2.0
PRODID:-//wp-events-plugin.com//7.2.3.1//EN
TZID:Europe/Berlin
X-WR-TIMEZONE:Europe/Berlin
BEGIN:VEVENT
UID:132@heinrich-kunst-haus.de
DTSTART;TZID=Europe/Berlin:20220308T193000
DTEND;TZID=Europe/Berlin:20220308T193000
DTSTAMP:20220306T104802Z
URL:https://heinrich-kunst-haus.de/veranstaltungen/amour-bleu-andreas-bahl
 mann-liest-aus-seinem-neuen-roman/
SUMMARY:"Amour bleu"\, Andreas Bahlmann liest aus seinem neuen Roman
DESCRIPTION:Nach Liebesende Fahrt „ins Blaue“\n\nAndreas Bahlmann liest
  aus neuem Roman „Amour bleu“\n\nAndreas Bahlmann war schon häufiger 
 Gast im Heinrich Kunst Haus (Sandweg 22\, Ofenerfeld). Bislang kannten die
  Besucher ihn aber hauptsächlich als Musiker und Schlagzeuger. Aber er sc
 hreibt auch Bücher: nach seinem Erstlingswerk „Red House“ aus dem Jah
 re 2016 veröffentlichte er im Herbst 2020 einen neuen Roman: „Amour ble
 u“.\nZum Inhalt: Gottfried lebt Anfang der 80-er-Jahre in Paris. Nach de
 r Trennung von seiner großen Liebe versucht er\, dem Liebeskummer zu entf
 liehen und fährt ziellos durch Frankreich. Nur die Musik von seinem Kasse
 ttenrekorder und die vielen Begegnungen mit bizarren Menschen können ihn 
 zeitweise trösten.\nAm Dienstag\, 8. März liest Andreas Bahlmann im Hein
 rich Kunst Haus aus seinem witzigen\, schrillen\, traurigen und anrührend
 en Roman. Die Veranstaltung beginnt um 19:30 Uhr\, der Eintritt ist frei.\
 n\nAm Tag der Veranstaltung gilt die aktuelle der Corona Verordnung des La
 ndes Niedersachsen vom 24.02.2022:\n- 3G-Regel im Innen- und Außenbereich
 \n- FFP2-Maske bis zum Sitzplatz (darf am Sitzplatz abgenommen werden)\n- 
 keine Abstandsmaßnahmen\n\nDer Verein bittet\, entsprechende Nachweise am
  Einlass bereit zu halten.\n\n&nbsp\;\n\n&nbsp\;  Bild: Privat
CATEGORIES:Lesung
LOCATION:Heinrich-Kunst-Haus\, Sandweg 22\, Wiefelstede\, Niedersachsen\, 2
 6215\, Oldenburg\, Deutschland
GEO:53.1946993;8.1879785
X-APPLE-STRUCTURED-LOCATION;VALUE=URI;X-ADDRESS=Sandweg 22\, Wiefelstede\, 
 Niedersachsen\, 26215\, Oldenburg\, Deutschland;X-APPLE-RADIUS=100;X-TITLE
 =Heinrich-Kunst-Haus:geo:53.1946993,8.1879785
END:VEVENT
BEGIN:VTIMEZONE
TZID:Europe/Berlin
X-LIC-LOCATION:Europe/Berlin
BEGIN:STANDARD
DTSTART:20211031T020000
TZOFFSETFROM:+0200
TZOFFSETTO:+0100
TZNAME:CET
END:STANDARD
END:VTIMEZONE
END:VCALENDAR