BEGIN:VCALENDAR
VERSION:2.0
PRODID:-//wp-events-plugin.com//7.2.3.1//EN
TZID:Europe/Berlin
X-WR-TIMEZONE:Europe/Berlin
BEGIN:VEVENT
UID:123@heinrich-kunst-haus.de
DTSTART;TZID=Europe/Berlin:20211103T193000
DTEND;TZID=Europe/Berlin:20211103T220000
DTSTAMP:20211015T212915Z
URL:https://heinrich-kunst-haus.de/veranstaltungen/988/
SUMMARY:„Tofte“ mit handgemachter Musik\, Musiker aus Edewecht mit plat
 tdeutschem ‚Folk `n` Roll‘ - Zusatzkonzert - Ausverkauft!
DESCRIPTION:„Tofte“ gibt Zusatzkonzert - Ausverkauft!\n\n\nMusiker mit 
 plattdeutschem ‚Folk `n` Roll‘\n\nWegen großer Nachfrage gibt die Mus
 ikgruppe „Tofte“ am Mittwoch\, 3. November ein Zusatzkonzert im Heinri
 ch Kunst Haus (Sandweg 22\, Ofenerfeld\, 26215 Wiefelstede).\nMit ihrer ha
 ndgemachten Musik auf akustischen Instrumenten und mehrstimmigen Gesang ha
 ben sie schnell das Publikum auf ihrer Seite. Dabei spannen sie einen gro
 ßen Bogen von ruhigen Balladen über irischen Folk bis zu rockig angehauc
 hten Stücken - und das mit überwiegend deutschen und plattdeutschen Text
 en. Gespielt wird\, was Spaß macht\, ist ihr Motto.\nDas Konzert im Heinr
 ich Kunst Haus beginnt um 19:30 Uhr. Karten können für 7 Euro ab sofort 
 telefonisch bei Richard Eckhoff unter 0441-60735 oder 0171-4957241 bzw. un
 ter E-Mail kontakt@heinrich-kunst-haus.de vorbestellt werden. Nach Eingang
  des Eintrittsgeldes werden die Karten verschickt bzw. können abgeholt we
 rden. Dafür ist im Heinrich Kunst Haus am Donnerstag\, 21.10.\, Montag\, 
 25.10. und am Mittwoch\, 27.10. jeweils von 19 bis 20 Uhr eine Vorverkaufs
 kasse geöffnet\, wo dann auch ohne Vorbestellung Rest-Karten erworben wer
 den können.\n\nFür das Konzert gilt die 2-G-Regel: die Teilnahme ist nur
  möglich\, wer vollständig geimpft oder von einer Covid-Infektion genese
 n ist. Der Verein bittet\, entsprechende Nachweise am Einlass bereit zu ha
 lten.\n\nDokumentation der Kontaktdaten digital/elektronisch am Einlass (L
 uca-App)\, im Einzelfall auch in Papierform.\n\n\nBild: privat
CATEGORIES:Konzert
LOCATION:Heinrich-Kunst-Haus\, Sandweg 22\, Wiefelstede\, Niedersachsen\, 2
 6215\, Oldenburg\, Deutschland
GEO:53.1946993;8.1879785
X-APPLE-STRUCTURED-LOCATION;VALUE=URI;X-ADDRESS=Sandweg 22\, Wiefelstede\, 
 Niedersachsen\, 26215\, Oldenburg\, Deutschland;X-APPLE-RADIUS=100;X-TITLE
 =Heinrich-Kunst-Haus:geo:53.1946993,8.1879785
END:VEVENT
BEGIN:VTIMEZONE
TZID:Europe/Berlin
X-LIC-LOCATION:Europe/Berlin
BEGIN:STANDARD
DTSTART:20211031T020000
TZOFFSETFROM:+0200
TZOFFSETTO:+0100
TZNAME:CET
END:STANDARD
END:VTIMEZONE
END:VCALENDAR